BEGIN:VCALENDAR
VERSION:2.0
PRODID:-//Hudson Public Library - ECPv6.15.20//NONSGML v1.0//EN
CALSCALE:GREGORIAN
METHOD:PUBLISH
X-ORIGINAL-URL:https://thehudsonpubliclibrary.org
X-WR-CALDESC:Events for Hudson Public Library
REFRESH-INTERVAL;VALUE=DURATION:PT1H
X-Robots-Tag:noindex
X-PUBLISHED-TTL:PT1H
BEGIN:VTIMEZONE
TZID:America/Denver
BEGIN:DAYLIGHT
TZOFFSETFROM:-0700
TZOFFSETTO:-0600
TZNAME:MDT
DTSTART:20250309T090000
END:DAYLIGHT
BEGIN:STANDARD
TZOFFSETFROM:-0600
TZOFFSETTO:-0700
TZNAME:MST
DTSTART:20251102T080000
END:STANDARD
BEGIN:DAYLIGHT
TZOFFSETFROM:-0700
TZOFFSETTO:-0600
TZNAME:MDT
DTSTART:20260308T090000
END:DAYLIGHT
BEGIN:STANDARD
TZOFFSETFROM:-0600
TZOFFSETTO:-0700
TZNAME:MST
DTSTART:20261101T080000
END:STANDARD
BEGIN:DAYLIGHT
TZOFFSETFROM:-0700
TZOFFSETTO:-0600
TZNAME:MDT
DTSTART:20270314T090000
END:DAYLIGHT
BEGIN:STANDARD
TZOFFSETFROM:-0600
TZOFFSETTO:-0700
TZNAME:MST
DTSTART:20271107T080000
END:STANDARD
END:VTIMEZONE
BEGIN:VEVENT
DTSTART;TZID=America/Denver:20260422T133000
DTEND;TZID=America/Denver:20260422T143000
DTSTAMP:20260419T161742
CREATED:20251211T210545Z
LAST-MODIFIED:20260317T215021Z
UID:10007054-1776864600-1776868200@thehudsonpubliclibrary.org
SUMMARY:Bookmobile at Roggen Post Office
DESCRIPTION:Open to public Bookmobile stop
URL:https://thehudsonpubliclibrary.org/event/bookmobile-at-roggen-post-office/2026-04-22/
LOCATION:Roggen\, 413 Front St.\, Roggen\, CO\, 80652\, United States
CATEGORIES:Bookmobile
ATTACH;FMTTYPE=image/jpeg:https://thehudsonpubliclibrary.org/wp-content/uploads/2025/10/bookmobile-carousel-featured.jpg
END:VEVENT
BEGIN:VEVENT
DTSTART;TZID=America/Denver:20260527T133000
DTEND;TZID=America/Denver:20260527T143000
DTSTAMP:20260419T161743
CREATED:20251211T210545Z
LAST-MODIFIED:20260317T215021Z
UID:10007055-1779888600-1779892200@thehudsonpubliclibrary.org
SUMMARY:Bookmobile at Roggen Post Office
DESCRIPTION:Open to public Bookmobile stop
URL:https://thehudsonpubliclibrary.org/event/bookmobile-at-roggen-post-office/2026-05-27/
LOCATION:Roggen\, 413 Front St.\, Roggen\, CO\, 80652\, United States
CATEGORIES:Bookmobile
ATTACH;FMTTYPE=image/jpeg:https://thehudsonpubliclibrary.org/wp-content/uploads/2025/10/bookmobile-carousel-featured.jpg
END:VEVENT
END:VCALENDAR