BEGIN:VCALENDAR
VERSION:2.0
PRODID:-//Hudson Public Library - ECPv6.15.20//NONSGML v1.0//EN
CALSCALE:GREGORIAN
METHOD:PUBLISH
X-WR-CALNAME:Hudson Public Library
X-ORIGINAL-URL:https://thehudsonpubliclibrary.org
X-WR-CALDESC:Events for Hudson Public Library
REFRESH-INTERVAL;VALUE=DURATION:PT1H
X-Robots-Tag:noindex
X-PUBLISHED-TTL:PT1H
BEGIN:VTIMEZONE
TZID:America/Denver
BEGIN:DAYLIGHT
TZOFFSETFROM:-0700
TZOFFSETTO:-0600
TZNAME:MDT
DTSTART:20250309T090000
END:DAYLIGHT
BEGIN:STANDARD
TZOFFSETFROM:-0600
TZOFFSETTO:-0700
TZNAME:MST
DTSTART:20251102T080000
END:STANDARD
BEGIN:DAYLIGHT
TZOFFSETFROM:-0700
TZOFFSETTO:-0600
TZNAME:MDT
DTSTART:20260308T090000
END:DAYLIGHT
BEGIN:STANDARD
TZOFFSETFROM:-0600
TZOFFSETTO:-0700
TZNAME:MST
DTSTART:20261101T080000
END:STANDARD
BEGIN:DAYLIGHT
TZOFFSETFROM:-0700
TZOFFSETTO:-0600
TZNAME:MDT
DTSTART:20270314T090000
END:DAYLIGHT
BEGIN:STANDARD
TZOFFSETFROM:-0600
TZOFFSETTO:-0700
TZNAME:MST
DTSTART:20271107T080000
END:STANDARD
END:VTIMEZONE
BEGIN:VEVENT
DTSTART;TZID=America/Denver:20260521T140000
DTEND;TZID=America/Denver:20260521T170000
DTSTAMP:20260421T175656
CREATED:20260317T152121Z
LAST-MODIFIED:20260317T152121Z
UID:10007032-1779372000-1779382800@thehudsonpubliclibrary.org
SUMMARY:Create HQ: By appointment
DESCRIPTION:Create an appointment during open Makerspace hours to learn how to create fun exciting crafts from our array of tools. We have: \n\nHeat Presses\nCricut Makers\nScreen Printer\nPrinters\nLaser engraver\nButton Makers\n3D Printer\nSewing Machines\n\nThese are perfect for creating notebooks\, gifts\, and more! \n\n\nMakerspace hours are by appointment on Tuesdays\, Thursdays and Fridays. To make an appointment\, click on this link: https://thehudsonpubliclibrary.org/services/create-hq/ OR  scroll up and click on the “Services” tab\, and then “Create HQ Makerspace”. For both options\, scroll all the way down for the reservation prompt. \nPlease call 303-536-4550 if you have any questions or come in during open hours.
URL:https://thehudsonpubliclibrary.org/event/create-hq-by-appointment-2-2/2026-05-21/
LOCATION:Hudson Public Library\, 100 Beech Street\, Hudson\, 80642\, United States
CATEGORIES:Create HQ
ATTACH;FMTTYPE=image/png:https://thehudsonpubliclibrary.org/wp-content/uploads/2026/01/March-Website-Flyers-9.png
END:VEVENT
BEGIN:VEVENT
DTSTART;TZID=America/Denver:20260521T180000
DTEND;TZID=America/Denver:20260521T190000
DTSTAMP:20260421T175656
CREATED:20260317T153439Z
LAST-MODIFIED:20260317T153439Z
UID:10007036-1779386400-1779390000@thehudsonpubliclibrary.org
SUMMARY:Beveraged & Boarded Book Club FULL
DESCRIPTION:WE ARE CURRENTLY FULL!  \nA welcoming space for moms who want a chance to unwind\, connect\, and share great reads. Each gathering features fun mocktails and delicious charcuterie boards\, as well as a chance to have heartfelt conversations of the month’s read. Either it be mystery\, fiction or fantasy\, you’re bound to enjoy yourself with Beveraged & Boarded Book Club. March’s read is The Rose Code by Kate Quinn. \nPlease call 303-536-4550 if you have any questions or come in during open hours. \n 
URL:https://thehudsonpubliclibrary.org/event/beveraged-boarded-book-club-full-2/
LOCATION:Hudson Public Library\, 100 Beech Street\, Hudson\, 80642\, United States
ATTACH;FMTTYPE=image/png:https://thehudsonpubliclibrary.org/wp-content/uploads/2026/03/AprilMay-26-Website-Flyers-1.png
END:VEVENT
BEGIN:VEVENT
DTSTART;TZID=America/Denver:20260522T110000
DTEND;TZID=America/Denver:20260522T113000
DTSTAMP:20260421T175656
CREATED:20260316T203745Z
LAST-MODIFIED:20260317T150338Z
UID:10006995-1779447600-1779449400@thehudsonpubliclibrary.org
SUMMARY:Bouncing Babies
DESCRIPTION:Join us for songs\, rhymes and fingerplays for babies. Older siblings are encouraged to bring their own baby to interact with. \nPlease call 303-536-4550 if you have any questions or come in during open hours.
URL:https://thehudsonpubliclibrary.org/event/bouncing-babies-3-2-2-2/2026-05-22/
LOCATION:Hudson Public Library\, 100 Beech Street\, Hudson\, 80642\, United States
ATTACH;FMTTYPE=image/png:https://thehudsonpubliclibrary.org/wp-content/uploads/2026/02/April-Website-Flyers-10.png
END:VEVENT
BEGIN:VEVENT
DTSTART;TZID=America/Denver:20260522T140000
DTEND;TZID=America/Denver:20260522T170000
DTSTAMP:20260421T175656
CREATED:20260317T152121Z
LAST-MODIFIED:20260317T152121Z
UID:10007033-1779458400-1779469200@thehudsonpubliclibrary.org
SUMMARY:Create HQ: By appointment
DESCRIPTION:Create an appointment during open Makerspace hours to learn how to create fun exciting crafts from our array of tools. We have: \n\nHeat Presses\nCricut Makers\nScreen Printer\nPrinters\nLaser engraver\nButton Makers\n3D Printer\nSewing Machines\n\nThese are perfect for creating notebooks\, gifts\, and more! \n\n\nMakerspace hours are by appointment on Tuesdays\, Thursdays and Fridays. To make an appointment\, click on this link: https://thehudsonpubliclibrary.org/services/create-hq/ OR  scroll up and click on the “Services” tab\, and then “Create HQ Makerspace”. For both options\, scroll all the way down for the reservation prompt. \nPlease call 303-536-4550 if you have any questions or come in during open hours.
URL:https://thehudsonpubliclibrary.org/event/create-hq-by-appointment-2-2/2026-05-22/
LOCATION:Hudson Public Library\, 100 Beech Street\, Hudson\, 80642\, United States
CATEGORIES:Create HQ
ATTACH;FMTTYPE=image/png:https://thehudsonpubliclibrary.org/wp-content/uploads/2026/01/March-Website-Flyers-9.png
END:VEVENT
BEGIN:VEVENT
DTSTART;TZID=America/Denver:20260522T150000
DTEND;TZID=America/Denver:20260522T170000
DTSTAMP:20260421T175656
CREATED:20260317T210124Z
LAST-MODIFIED:20260317T210124Z
UID:10007046-1779462000-1779469200@thehudsonpubliclibrary.org
SUMMARY:Kid's Play Remix (Physical Play)
DESCRIPTION:A new\, fun and exciting learning opportunity that remixes different themes of play for school-aged children. Each week hosts a different event\, so follow closely for all the endless fun! This week\, we will be creating and flying kites! \nPlease call 303-536-4550 if you have any questions or stop by during open hours.
URL:https://thehudsonpubliclibrary.org/event/kids-play-remix-physical-play-3/
LOCATION:Hudson Public Library\, 100 Beech Street\, Hudson\, 80642\, United States
ATTACH;FMTTYPE=image/png:https://thehudsonpubliclibrary.org/wp-content/uploads/2026/03/AprilMay-26-Website-Flyers-12.png
END:VEVENT
BEGIN:VEVENT
DTSTART;TZID=America/Denver:20260525T130000
DTEND;TZID=America/Denver:20260525T140000
DTSTAMP:20260421T175656
CREATED:20260316T210850Z
LAST-MODIFIED:20260318T150852Z
UID:10006983-1779714000-1779717600@thehudsonpubliclibrary.org
SUMMARY:Chair Yoga
DESCRIPTION:Join Jess King for a chair yoga exercise to strengthen the body\, increase mobility\, and promote overall health of the mind and body. \nPlease call 303-536-4550 if you have any questions or come in during open hours.
URL:https://thehudsonpubliclibrary.org/event/chair-yoga-3-2-2/2026-05-25/
LOCATION:Hudson Public Library\, 100 Beech Street\, Hudson\, 80642\, United States
ATTACH;FMTTYPE=image/png:https://thehudsonpubliclibrary.org/wp-content/uploads/2026/01/March-Website-Flyers-2.png
END:VEVENT
BEGIN:VEVENT
DTSTART;TZID=America/Denver:20260525T160000
DTEND;TZID=America/Denver:20260525T170000
DTSTAMP:20260421T175656
CREATED:20260317T150137Z
LAST-MODIFIED:20260318T151024Z
UID:10006986-1779724800-1779728400@thehudsonpubliclibrary.org
SUMMARY:Pack Mule Fitness
DESCRIPTION:Build strength every Monday with our Muscle Building & Bodyweight Training Class! Perfect for beginners or fitness pros\, this high-energy session boosts endurance\, sculpts your body\, and challenges you using just your own weight. No equipment needed just show up\, push your limits\, and start your week strong! Join Dawnee Raskin with Pack Mule Fitness LLC. For adults. \nPlease call 303-536-4550 if you have any questions or come in during open hours.
URL:https://thehudsonpubliclibrary.org/event/pack-mule-fitness-2-2-2-2-2/2026-05-25/
LOCATION:Hudson Public Library\, 100 Beech Street\, Hudson\, 80642\, United States
ATTACH;FMTTYPE=image/png:https://thehudsonpubliclibrary.org/wp-content/uploads/2026/01/March-Website-Flyers-4.png
END:VEVENT
BEGIN:VEVENT
DTSTART;TZID=America/Denver:20260526T100000
DTEND;TZID=America/Denver:20260526T110000
DTSTAMP:20260421T175656
CREATED:20260316T212414Z
LAST-MODIFIED:20260317T150214Z
UID:10006989-1779789600-1779793200@thehudsonpubliclibrary.org
SUMMARY:Prime Timers
DESCRIPTION:Join the Fun with Prime Timers! Our relaxed monthly meetup for adults 55+ is all about good company\, fun games\, and great conversation. Whether you’re a regular or new\, you’ll feel right at home. Come hang out\, make friends\, and enjoy something a little different each time! Please call 303-536-4550 if you have any questions or come in during open hours. \nPlease call 303-536-4550 if you have any questions or come in during open hours.
URL:https://thehudsonpubliclibrary.org/event/prime-timers-3-2-2-2/2026-05-26/
LOCATION:Hudson Public Library\, 100 Beech Street\, Hudson\, 80642\, United States
ATTACH;FMTTYPE=image/png:https://thehudsonpubliclibrary.org/wp-content/uploads/2026/01/March-Website-Flyers-5.png
END:VEVENT
BEGIN:VEVENT
DTSTART;TZID=America/Denver:20260526T120000
DTEND;TZID=America/Denver:20260526T130000
DTSTAMP:20260421T175656
CREATED:20260316T212654Z
LAST-MODIFIED:20260317T150252Z
UID:10006992-1779796800-1779800400@thehudsonpubliclibrary.org
SUMMARY:Knots and Thoughts
DESCRIPTION:Join us for Knitting and Crocheting Club. This is just a group of people interested in working with yarn and spending time with others. All skill levels welcome. \nPlease call 303-536-4550 if you have any questions or come in during open hours.
URL:https://thehudsonpubliclibrary.org/event/knots-and-thoughts-3-2-2/2026-05-26/
LOCATION:Hudson Public Library\, 100 Beech Street\, Hudson\, 80642\, United States
ATTACH;FMTTYPE=image/png:https://thehudsonpubliclibrary.org/wp-content/uploads/2025/12/December-Website-Event-Flyers-2.png
END:VEVENT
BEGIN:VEVENT
DTSTART;TZID=America/Denver:20260526T160000
DTEND;TZID=America/Denver:20260526T190000
DTSTAMP:20260421T175656
CREATED:20260317T151905Z
LAST-MODIFIED:20260317T151905Z
UID:10006588-1779811200-1779822000@thehudsonpubliclibrary.org
SUMMARY:Create HQ: By Appointment
DESCRIPTION:Create an appointment during open Makerspace hours to learn how to create fun exciting crafts from our array of tools. We have: \n\nHeat Presses\nCricut Makers\nScreen Printer\nPrinters\nLaser engraver\nButton Makers\n3D Printer\nSewing Machines\n\nThese are perfect for creating notebooks\, gifts\, and more! \n\n\nMakerspace hours are by appointment on Tuesdays\, Thursdays and Fridays. To make an appointment\, click on this link: https://thehudsonpubliclibrary.org/services/create-hq/ OR  scroll up and click on the “Services” tab\, and then “Create HQ Makerspace”. For both options\, scroll all the way down for the reservation prompt. \nPlease call 303-536-4550 if you have any questions or come in during open hours.
URL:https://thehudsonpubliclibrary.org/event/create-hq-by-appointment-3-3-2/2026-05-26/
LOCATION:Hudson Public Library\, 100 Beech Street\, Hudson\, 80642\, United States
CATEGORIES:Create HQ
ATTACH;FMTTYPE=image/png:https://thehudsonpubliclibrary.org/wp-content/uploads/2025/12/January-Event-Flyers-1.png
END:VEVENT
BEGIN:VEVENT
DTSTART;TZID=America/Denver:20260526T170000
DTEND;TZID=America/Denver:20260526T180000
DTSTAMP:20260421T175656
CREATED:20260316T212246Z
LAST-MODIFIED:20260317T145744Z
UID:10006972-1779814800-1779818400@thehudsonpubliclibrary.org
SUMMARY:Adult Yoga
DESCRIPTION:This class is a yoga flow class designed with a creative sequence. It will leave you feeling energized and challenged. No sign-up required\, but a waiver must be filled out before attending you can find it at https://www.jesskingyoga.com/services. \nPlease call 303-536-4550 if you have any questions or stop by during open hours.
URL:https://thehudsonpubliclibrary.org/event/adult-yoga-3-2-2/2026-05-26/
LOCATION:Hudson Public Library\, 100 Beech Street\, Hudson\, 80642\, United States
ATTACH;FMTTYPE=image/png:https://thehudsonpubliclibrary.org/wp-content/uploads/2026/01/March-Website-Flyers-2.png
END:VEVENT
BEGIN:VEVENT
DTSTART;TZID=America/Denver:20260527T093000
DTEND;TZID=America/Denver:20260527T100000
DTSTAMP:20260421T175656
CREATED:20260317T150423Z
LAST-MODIFIED:20260317T150423Z
UID:10007004-1779874200-1779876000@thehudsonpubliclibrary.org
SUMMARY:Wiggle Worm Storytime - First Session
DESCRIPTION:Join us for Storytime! Stories\, rhymes\, music and lots of movement. It’s perfect for your wiggle worms. \nPlease call 303-536-4550 if you have any questions or come in during open hours.
URL:https://thehudsonpubliclibrary.org/event/wiggle-worm-storytime-first-session-2/2026-05-27/
LOCATION:Hudson Public Library\, 100 Beech Street\, Hudson\, 80642\, United States
ATTACH;FMTTYPE=image/png:https://thehudsonpubliclibrary.org/wp-content/uploads/2026/01/March-Website-Flyers-.png
END:VEVENT
BEGIN:VEVENT
DTSTART;TZID=America/Denver:20260527T103000
DTEND;TZID=America/Denver:20260527T110000
DTSTAMP:20260421T175656
CREATED:20260316T203259Z
LAST-MODIFIED:20260317T150510Z
UID:10007012-1779877800-1779879600@thehudsonpubliclibrary.org
SUMMARY:Wiggle Worm Storytime - Second Session
DESCRIPTION:Join us for Storytime! Stories\, rhymes\, music and lots of movement. It’s perfect for your wiggle worms. \nPlease call 303-536-4550 if you have any questions or come in during open hours.
URL:https://thehudsonpubliclibrary.org/event/wiggle-worm-storytime-second-session-2-2-2-2-2/2026-05-27/
LOCATION:Hudson Public Library\, 100 Beech Street\, Hudson\, 80642\, United States
ATTACH;FMTTYPE=image/png:https://thehudsonpubliclibrary.org/wp-content/uploads/2026/02/April-Website-Flyers-9.png
END:VEVENT
BEGIN:VEVENT
DTSTART;TZID=America/Denver:20260528T083000
DTEND;TZID=America/Denver:20260528T093000
DTSTAMP:20260421T175656
CREATED:20260316T212030Z
LAST-MODIFIED:20260318T150947Z
UID:10006975-1779957000-1779960600@thehudsonpubliclibrary.org
SUMMARY:Adult Yoga
DESCRIPTION:This class is a yoga flow class designed with a creative sequence. It will leave you feeling energized and challenged. No sign-up required\, but a waiver must be filled out before attending you can find it at https://www.jesskingyoga.com/services.\nPlease call 303-536-4550 if you have any questions or stop by during open hours.
URL:https://thehudsonpubliclibrary.org/event/adult-yoga-2-2-2-2/2026-05-28/
LOCATION:Hudson Public Library\, 100 Beech Street\, Hudson\, 80642\, United States
ATTACH;FMTTYPE=image/png:https://thehudsonpubliclibrary.org/wp-content/uploads/2026/01/March-Website-Flyers-2.png
END:VEVENT
BEGIN:VEVENT
DTSTART;TZID=America/Denver:20260528T100000
DTEND;TZID=America/Denver:20260528T110000
DTSTAMP:20260421T175656
CREATED:20260316T210732Z
LAST-MODIFIED:20260317T145924Z
UID:10006979-1779962400-1779966000@thehudsonpubliclibrary.org
SUMMARY:Chair Yoga
DESCRIPTION:Join Jess King for a chair yoga exercise to strengthen the body\, increase mobility\, and promote overall health of the mind and body. \nPlease call 303-536-4550 if you have any questions or come in during open hours.
URL:https://thehudsonpubliclibrary.org/event/chair-yoga-2-2-2-2/2026-05-28/
LOCATION:Hudson Public Library\, 100 Beech Street\, Hudson\, 80642\, United States
ATTACH;FMTTYPE=image/png:https://thehudsonpubliclibrary.org/wp-content/uploads/2026/01/March-Website-Flyers-1.png
END:VEVENT
BEGIN:VEVENT
DTSTART;TZID=America/Denver:20260528T140000
DTEND;TZID=America/Denver:20260528T170000
DTSTAMP:20260421T175656
CREATED:20260317T152121Z
LAST-MODIFIED:20260317T152121Z
UID:10007034-1779976800-1779987600@thehudsonpubliclibrary.org
SUMMARY:Create HQ: By appointment
DESCRIPTION:Create an appointment during open Makerspace hours to learn how to create fun exciting crafts from our array of tools. We have: \n\nHeat Presses\nCricut Makers\nScreen Printer\nPrinters\nLaser engraver\nButton Makers\n3D Printer\nSewing Machines\n\nThese are perfect for creating notebooks\, gifts\, and more! \n\n\nMakerspace hours are by appointment on Tuesdays\, Thursdays and Fridays. To make an appointment\, click on this link: https://thehudsonpubliclibrary.org/services/create-hq/ OR  scroll up and click on the “Services” tab\, and then “Create HQ Makerspace”. For both options\, scroll all the way down for the reservation prompt. \nPlease call 303-536-4550 if you have any questions or come in during open hours.
URL:https://thehudsonpubliclibrary.org/event/create-hq-by-appointment-2-2/2026-05-28/
LOCATION:Hudson Public Library\, 100 Beech Street\, Hudson\, 80642\, United States
CATEGORIES:Create HQ
ATTACH;FMTTYPE=image/png:https://thehudsonpubliclibrary.org/wp-content/uploads/2026/01/March-Website-Flyers-9.png
END:VEVENT
BEGIN:VEVENT
DTSTART;TZID=America/Denver:20260528T163000
DTEND;TZID=America/Denver:20260528T173000
DTSTAMP:20260421T175656
CREATED:20260316T223741Z
LAST-MODIFIED:20260318T154220Z
UID:10007084-1779985800-1779989400@thehudsonpubliclibrary.org
SUMMARY:LEGO Club
DESCRIPTION:A family fun activity that explores your building abilities and creativity\, with Legos! Come prepared with your most abstract mind and bring the family along too\, for all ages!! \nPlease call 303-536-4550 if you have any questions or come in during open hours. \n 
URL:https://thehudsonpubliclibrary.org/event/lego-club/2026-05-28/
LOCATION:Hudson Public Library\, 100 Beech Street\, Hudson\, 80642\, United States
ATTACH;FMTTYPE=image/png:https://thehudsonpubliclibrary.org/wp-content/uploads/2026/03/April-26-Website-Flyers-1.png
END:VEVENT
BEGIN:VEVENT
DTSTART;TZID=America/Denver:20260529T110000
DTEND;TZID=America/Denver:20260529T113000
DTSTAMP:20260421T175656
CREATED:20260316T203745Z
LAST-MODIFIED:20260317T150338Z
UID:10006996-1780052400-1780054200@thehudsonpubliclibrary.org
SUMMARY:Bouncing Babies
DESCRIPTION:Join us for songs\, rhymes and fingerplays for babies. Older siblings are encouraged to bring their own baby to interact with. \nPlease call 303-536-4550 if you have any questions or come in during open hours.
URL:https://thehudsonpubliclibrary.org/event/bouncing-babies-3-2-2-2/2026-05-29/
LOCATION:Hudson Public Library\, 100 Beech Street\, Hudson\, 80642\, United States
ATTACH;FMTTYPE=image/png:https://thehudsonpubliclibrary.org/wp-content/uploads/2026/02/April-Website-Flyers-10.png
END:VEVENT
BEGIN:VEVENT
DTSTART;TZID=America/Denver:20260529T180000
DTEND;TZID=America/Denver:20260529T200000
DTSTAMP:20260421T175656
CREATED:20260318T153214Z
LAST-MODIFIED:20260318T153214Z
UID:10007083-1780077600-1780084800@thehudsonpubliclibrary.org
SUMMARY:Family Bingo Night
DESCRIPTION:The library offers programs for all ages. By registering\, you acknowledge the program’s time and age requirements. Please arrive on time late attendees cannot participate. Many programs fill quickly and may have waitlists. If you can’t attend\, cancel online at least 24 hours in advance or call before the program begins.  \nJoin us for a FREE fun filled night of Bingo with the family at Hudson Public Library. Play not only for fun\, but also for the chance to win prizes. This is great way to spend time with family and friends doing something fun and free on a Friday night. Join us at the Hudson Public Library! Family event. PLEASE SUBMIT A REGISTRATION FOR EVERY MEMBER OF THE FAMILY. \nPlease call 303-536-4550 if you have any questions or come in during open hours.
URL:https://thehudsonpubliclibrary.org/event/family-bingo-night-2/
LOCATION:Hudson Public Library\, 100 Beech Street\, Hudson\, 80642\, United States
ATTACH;FMTTYPE=image/png:https://thehudsonpubliclibrary.org/wp-content/uploads/2026/03/AprilMay-26-Website-Flyers-20.png
END:VEVENT
BEGIN:VEVENT
DTSTART;TZID=America/Denver:20260618T110000
DTEND;TZID=America/Denver:20260618T140000
DTSTAMP:20260421T175656
CREATED:20260317T151148Z
LAST-MODIFIED:20260417T173044Z
UID:10007088-1781780400-1781791200@thehudsonpubliclibrary.org
SUMMARY:Loteria
DESCRIPTION:Lotería at the Library – ¡Vamos a Jugar!\nJoin us for a fun-filled day of Lotería\, the beloved traditional Mexican game! Bring your friends and family for a day of laughter\, community\, and exciting prizes. Whether you’re a seasoned player or brand new to the game\, this is the perfect chance to enjoy great company\, experience a vibrant cultural tradition\, and maybe even win big! \nPlease call 303-536-4550 if you have any questions or come in during open hours.
URL:https://thehudsonpubliclibrary.org/event/loteria-2/2026-06-18/
LOCATION:Hudson Public Library\, 100 Beech Street\, Hudson\, 80642\, United States
ATTACH;FMTTYPE=image/png:https://thehudsonpubliclibrary.org/wp-content/uploads/2026/03/Spanish.png
END:VEVENT
END:VCALENDAR