BEGIN:VCALENDAR
VERSION:2.0
PRODID:-//Hudson Public Library - ECPv6.15.20//NONSGML v1.0//EN
CALSCALE:GREGORIAN
METHOD:PUBLISH
X-WR-CALNAME:Hudson Public Library
X-ORIGINAL-URL:https://thehudsonpubliclibrary.org
X-WR-CALDESC:Events for Hudson Public Library
REFRESH-INTERVAL;VALUE=DURATION:PT1H
X-Robots-Tag:noindex
X-PUBLISHED-TTL:PT1H
BEGIN:VTIMEZONE
TZID:America/Denver
BEGIN:DAYLIGHT
TZOFFSETFROM:-0700
TZOFFSETTO:-0600
TZNAME:MDT
DTSTART:20250309T090000
END:DAYLIGHT
BEGIN:STANDARD
TZOFFSETFROM:-0600
TZOFFSETTO:-0700
TZNAME:MST
DTSTART:20251102T080000
END:STANDARD
BEGIN:DAYLIGHT
TZOFFSETFROM:-0700
TZOFFSETTO:-0600
TZNAME:MDT
DTSTART:20260308T090000
END:DAYLIGHT
BEGIN:STANDARD
TZOFFSETFROM:-0600
TZOFFSETTO:-0700
TZNAME:MST
DTSTART:20261101T080000
END:STANDARD
BEGIN:DAYLIGHT
TZOFFSETFROM:-0700
TZOFFSETTO:-0600
TZNAME:MDT
DTSTART:20270314T090000
END:DAYLIGHT
BEGIN:STANDARD
TZOFFSETFROM:-0600
TZOFFSETTO:-0700
TZNAME:MST
DTSTART:20271107T080000
END:STANDARD
END:VTIMEZONE
BEGIN:VEVENT
DTSTART;TZID=America/Denver:20260423T083000
DTEND;TZID=America/Denver:20260423T093000
DTSTAMP:20260423T034313
CREATED:20260316T212030Z
LAST-MODIFIED:20260318T150947Z
UID:10006525-1776933000-1776936600@thehudsonpubliclibrary.org
SUMMARY:Adult Yoga
DESCRIPTION:This class is a yoga flow class designed with a creative sequence. It will leave you feeling energized and challenged. No sign-up required\, but a waiver must be filled out before attending you can find it at https://www.jesskingyoga.com/services.\nPlease call 303-536-4550 if you have any questions or stop by during open hours.
URL:https://thehudsonpubliclibrary.org/event/adult-yoga-2-2-2-2/2026-04-23/
LOCATION:Hudson Public Library\, 100 Beech Street\, Hudson\, 80642\, United States
ATTACH;FMTTYPE=image/png:https://thehudsonpubliclibrary.org/wp-content/uploads/2026/01/March-Website-Flyers-2.png
END:VEVENT
BEGIN:VEVENT
DTSTART;TZID=America/Denver:20260423T100000
DTEND;TZID=America/Denver:20260423T110000
DTSTAMP:20260423T034313
CREATED:20260316T210732Z
LAST-MODIFIED:20260317T145924Z
UID:10006946-1776938400-1776942000@thehudsonpubliclibrary.org
SUMMARY:Chair Yoga
DESCRIPTION:Join Jess King for a chair yoga exercise to strengthen the body\, increase mobility\, and promote overall health of the mind and body. \nPlease call 303-536-4550 if you have any questions or come in during open hours.
URL:https://thehudsonpubliclibrary.org/event/chair-yoga-2-2-2-2/2026-04-23/
LOCATION:Hudson Public Library\, 100 Beech Street\, Hudson\, 80642\, United States
ATTACH;FMTTYPE=image/png:https://thehudsonpubliclibrary.org/wp-content/uploads/2026/01/March-Website-Flyers-1.png
END:VEVENT
BEGIN:VEVENT
DTSTART;TZID=America/Denver:20260423T140000
DTEND;TZID=America/Denver:20260423T170000
DTSTAMP:20260423T034313
CREATED:20260317T152121Z
LAST-MODIFIED:20260317T152121Z
UID:10007024-1776952800-1776963600@thehudsonpubliclibrary.org
SUMMARY:Create HQ: By appointment
DESCRIPTION:Create an appointment during open Makerspace hours to learn how to create fun exciting crafts from our array of tools. We have: \n\nHeat Presses\nCricut Makers\nScreen Printer\nPrinters\nLaser engraver\nButton Makers\n3D Printer\nSewing Machines\n\nThese are perfect for creating notebooks\, gifts\, and more! \n\n\nMakerspace hours are by appointment on Tuesdays\, Thursdays and Fridays. To make an appointment\, click on this link: https://thehudsonpubliclibrary.org/services/create-hq/ OR  scroll up and click on the “Services” tab\, and then “Create HQ Makerspace”. For both options\, scroll all the way down for the reservation prompt. \nPlease call 303-536-4550 if you have any questions or come in during open hours.
URL:https://thehudsonpubliclibrary.org/event/create-hq-by-appointment-2-2/2026-04-23/
LOCATION:Hudson Public Library\, 100 Beech Street\, Hudson\, 80642\, United States
CATEGORIES:Create HQ
ATTACH;FMTTYPE=image/png:https://thehudsonpubliclibrary.org/wp-content/uploads/2026/01/March-Website-Flyers-9.png
END:VEVENT
BEGIN:VEVENT
DTSTART;TZID=America/Denver:20260423T163000
DTEND;TZID=America/Denver:20260423T173000
DTSTAMP:20260423T034313
CREATED:20260316T223741Z
LAST-MODIFIED:20260318T154220Z
UID:10006958-1776961800-1776965400@thehudsonpubliclibrary.org
SUMMARY:LEGO Club
DESCRIPTION:A family fun activity that explores your building abilities and creativity\, with Legos! Come prepared with your most abstract mind and bring the family along too\, for all ages!! \nPlease call 303-536-4550 if you have any questions or come in during open hours. \n 
URL:https://thehudsonpubliclibrary.org/event/lego-club/2026-04-23/
LOCATION:Hudson Public Library\, 100 Beech Street\, Hudson\, 80642\, United States
ATTACH;FMTTYPE=image/png:https://thehudsonpubliclibrary.org/wp-content/uploads/2026/03/April-26-Website-Flyers-1.png
END:VEVENT
BEGIN:VEVENT
DTSTART;TZID=America/Denver:20260424T110000
DTEND;TZID=America/Denver:20260424T113000
DTSTAMP:20260423T034313
CREATED:20260316T203745Z
LAST-MODIFIED:20260317T150338Z
UID:10006470-1777028400-1777030200@thehudsonpubliclibrary.org
SUMMARY:Bouncing Babies
DESCRIPTION:Join us for songs\, rhymes and fingerplays for babies. Older siblings are encouraged to bring their own baby to interact with. \nPlease call 303-536-4550 if you have any questions or come in during open hours.
URL:https://thehudsonpubliclibrary.org/event/bouncing-babies-3-2-2-2/2026-04-24/
LOCATION:Hudson Public Library\, 100 Beech Street\, Hudson\, 80642\, United States
ATTACH;FMTTYPE=image/png:https://thehudsonpubliclibrary.org/wp-content/uploads/2026/02/April-Website-Flyers-10.png
END:VEVENT
BEGIN:VEVENT
DTSTART;TZID=America/Denver:20260424T140000
DTEND;TZID=America/Denver:20260424T170000
DTSTAMP:20260423T034313
CREATED:20260317T152121Z
LAST-MODIFIED:20260317T152121Z
UID:10007025-1777039200-1777050000@thehudsonpubliclibrary.org
SUMMARY:Create HQ: By appointment
DESCRIPTION:Create an appointment during open Makerspace hours to learn how to create fun exciting crafts from our array of tools. We have: \n\nHeat Presses\nCricut Makers\nScreen Printer\nPrinters\nLaser engraver\nButton Makers\n3D Printer\nSewing Machines\n\nThese are perfect for creating notebooks\, gifts\, and more! \n\n\nMakerspace hours are by appointment on Tuesdays\, Thursdays and Fridays. To make an appointment\, click on this link: https://thehudsonpubliclibrary.org/services/create-hq/ OR  scroll up and click on the “Services” tab\, and then “Create HQ Makerspace”. For both options\, scroll all the way down for the reservation prompt. \nPlease call 303-536-4550 if you have any questions or come in during open hours.
URL:https://thehudsonpubliclibrary.org/event/create-hq-by-appointment-2-2/2026-04-24/
LOCATION:Hudson Public Library\, 100 Beech Street\, Hudson\, 80642\, United States
CATEGORIES:Create HQ
ATTACH;FMTTYPE=image/png:https://thehudsonpubliclibrary.org/wp-content/uploads/2026/01/March-Website-Flyers-9.png
END:VEVENT
BEGIN:VEVENT
DTSTART;TZID=America/Denver:20260424T150000
DTEND;TZID=America/Denver:20260424T170000
DTSTAMP:20260423T034313
CREATED:20260317T205003Z
LAST-MODIFIED:20260317T205003Z
UID:10007044-1777042800-1777050000@thehudsonpubliclibrary.org
SUMMARY:Kid's Play Remix (Physical Play)
DESCRIPTION:A new\, fun and exciting learning opportunity that remixes different themes of play for school-aged children. Each week hosts a different event\, so follow closely for all the endless fun! This week\, we will be playing an outdoor cornhole tournament! \nPlease call 303-536-4550 if you have any questions or stop by during open hours.
URL:https://thehudsonpubliclibrary.org/event/kids-play-remix-physical-play-2/
LOCATION:Hudson Public Library\, 100 Beech Street\, Hudson\, 80642\, United States
ATTACH;FMTTYPE=image/png:https://thehudsonpubliclibrary.org/wp-content/uploads/2026/03/AprilMay-26-Website-Flyers-10.png
END:VEVENT
BEGIN:VEVENT
DTSTART;TZID=America/Denver:20260424T150000
DTEND;TZID=America/Denver:20260424T170000
DTSTAMP:20260423T034313
CREATED:20260414T194701Z
LAST-MODIFIED:20260414T225620Z
UID:10007086-1777042800-1777050000@thehudsonpubliclibrary.org
SUMMARY:Día del Niño
DESCRIPTION:Celebrate Día del Niño (Day of the Child) with us! \nJoin us for a day full of fun\, games\, and celebration as we honor children in our community. Enjoy goodie bags\, a piñata\, and outdoor activities for all ages!
URL:https://thehudsonpubliclibrary.org/event/dia-del-nino/
LOCATION:Hudson Public Library\, 100 Beech Street\, Hudson\, 80642\, United States
ATTACH;FMTTYPE=image/png:https://thehudsonpubliclibrary.org/wp-content/uploads/2026/04/AprilMay-26-Website-Flyers-1.png
END:VEVENT
BEGIN:VEVENT
DTSTART;TZID=America/Denver:20260424T180000
DTEND;TZID=America/Denver:20260424T200000
DTSTAMP:20260423T034313
CREATED:20260316T150032Z
LAST-MODIFIED:20260312T214127Z
UID:10006933-1777053600-1777060800@thehudsonpubliclibrary.org
SUMMARY:Family Bingo Night
DESCRIPTION:The library offers programs for all ages. By registering\, you acknowledge the program’s time and age requirements. Please arrive on time late attendees cannot participate. Many programs fill quickly and may have waitlists. If you can’t attend\, cancel online at least 24 hours in advance or call before the program begins.  \nJoin us for a FREE fun filled night of Bingo with the family at Hudson Public Library. Play not only for fun\, but also for the chance to win prizes. This is great way to spend time with family and friends doing something fun and free on a Friday night. Join us at the Hudson Public Library! Family event. Please submit a registration for each member of the party. \nPlease call 303-536-4550 if you have any questions or come in during open hours.
URL:https://thehudsonpubliclibrary.org/event/family-bingo-night-3/
LOCATION:Hudson Public Library\, 100 Beech Street\, Hudson\, 80642\, United States
ATTACH;FMTTYPE=image/png:https://thehudsonpubliclibrary.org/wp-content/uploads/2026/03/April-Website-Flyers-2.png
END:VEVENT
BEGIN:VEVENT
DTSTART;TZID=America/Denver:20260427T130000
DTEND;TZID=America/Denver:20260427T140000
DTSTAMP:20260423T034313
CREATED:20260316T210850Z
LAST-MODIFIED:20260318T150852Z
UID:10006950-1777294800-1777298400@thehudsonpubliclibrary.org
SUMMARY:Chair Yoga
DESCRIPTION:Join Jess King for a chair yoga exercise to strengthen the body\, increase mobility\, and promote overall health of the mind and body. \nPlease call 303-536-4550 if you have any questions or come in during open hours.
URL:https://thehudsonpubliclibrary.org/event/chair-yoga-3-2-2/2026-04-27/
LOCATION:Hudson Public Library\, 100 Beech Street\, Hudson\, 80642\, United States
ATTACH;FMTTYPE=image/png:https://thehudsonpubliclibrary.org/wp-content/uploads/2026/01/March-Website-Flyers-2.png
END:VEVENT
BEGIN:VEVENT
DTSTART;TZID=America/Denver:20260427T160000
DTEND;TZID=America/Denver:20260427T170000
DTSTAMP:20260423T034313
CREATED:20260317T150137Z
LAST-MODIFIED:20260318T151024Z
UID:10006297-1777305600-1777309200@thehudsonpubliclibrary.org
SUMMARY:Pack Mule Fitness
DESCRIPTION:Build strength every Monday with our Muscle Building & Bodyweight Training Class! Perfect for beginners or fitness pros\, this high-energy session boosts endurance\, sculpts your body\, and challenges you using just your own weight. No equipment needed just show up\, push your limits\, and start your week strong! Join Dawnee Raskin with Pack Mule Fitness LLC. For adults. \nPlease call 303-536-4550 if you have any questions or come in during open hours.
URL:https://thehudsonpubliclibrary.org/event/pack-mule-fitness-2-2-2-2-2/2026-04-27/
LOCATION:Hudson Public Library\, 100 Beech Street\, Hudson\, 80642\, United States
ATTACH;FMTTYPE=image/png:https://thehudsonpubliclibrary.org/wp-content/uploads/2026/01/March-Website-Flyers-4.png
END:VEVENT
BEGIN:VEVENT
DTSTART;TZID=America/Denver:20260428T080000
DTEND;TZID=America/Denver:20260428T170000
DTSTAMP:20260423T034313
CREATED:20260317T220035Z
LAST-MODIFIED:20260317T220035Z
UID:10007058-1777363200-1777395600@thehudsonpubliclibrary.org
SUMMARY:District Art Show
DESCRIPTION:
URL:https://thehudsonpubliclibrary.org/event/district-art-show/2026-04-28/
LOCATION:Hudson Public Library\, 100 Beech Street\, Hudson\, 80642\, United States
CATEGORIES:Community Events
END:VEVENT
BEGIN:VEVENT
DTSTART;TZID=America/Denver:20260428T100000
DTEND;TZID=America/Denver:20260428T110000
DTSTAMP:20260423T034313
CREATED:20260316T212414Z
LAST-MODIFIED:20260317T150214Z
UID:10006954-1777370400-1777374000@thehudsonpubliclibrary.org
SUMMARY:Prime Timers
DESCRIPTION:Join the Fun with Prime Timers! Our relaxed monthly meetup for adults 55+ is all about good company\, fun games\, and great conversation. Whether you’re a regular or new\, you’ll feel right at home. Come hang out\, make friends\, and enjoy something a little different each time! Please call 303-536-4550 if you have any questions or come in during open hours. \nPlease call 303-536-4550 if you have any questions or come in during open hours.
URL:https://thehudsonpubliclibrary.org/event/prime-timers-3-2-2-2/2026-04-28/
LOCATION:Hudson Public Library\, 100 Beech Street\, Hudson\, 80642\, United States
ATTACH;FMTTYPE=image/png:https://thehudsonpubliclibrary.org/wp-content/uploads/2026/01/March-Website-Flyers-5.png
END:VEVENT
BEGIN:VEVENT
DTSTART;TZID=America/Denver:20260428T120000
DTEND;TZID=America/Denver:20260428T130000
DTSTAMP:20260423T034313
CREATED:20260316T212654Z
LAST-MODIFIED:20260317T150252Z
UID:10006355-1777377600-1777381200@thehudsonpubliclibrary.org
SUMMARY:Knots and Thoughts
DESCRIPTION:Join us for Knitting and Crocheting Club. This is just a group of people interested in working with yarn and spending time with others. All skill levels welcome. \nPlease call 303-536-4550 if you have any questions or come in during open hours.
URL:https://thehudsonpubliclibrary.org/event/knots-and-thoughts-3-2-2/2026-04-28/
LOCATION:Hudson Public Library\, 100 Beech Street\, Hudson\, 80642\, United States
ATTACH;FMTTYPE=image/png:https://thehudsonpubliclibrary.org/wp-content/uploads/2025/12/December-Website-Event-Flyers-2.png
END:VEVENT
BEGIN:VEVENT
DTSTART;TZID=America/Denver:20260428T160000
DTEND;TZID=America/Denver:20260428T190000
DTSTAMP:20260423T034313
CREATED:20260317T151905Z
LAST-MODIFIED:20260317T151905Z
UID:10006584-1777392000-1777402800@thehudsonpubliclibrary.org
SUMMARY:Create HQ: By Appointment
DESCRIPTION:Create an appointment during open Makerspace hours to learn how to create fun exciting crafts from our array of tools. We have: \n\nHeat Presses\nCricut Makers\nScreen Printer\nPrinters\nLaser engraver\nButton Makers\n3D Printer\nSewing Machines\n\nThese are perfect for creating notebooks\, gifts\, and more! \n\n\nMakerspace hours are by appointment on Tuesdays\, Thursdays and Fridays. To make an appointment\, click on this link: https://thehudsonpubliclibrary.org/services/create-hq/ OR  scroll up and click on the “Services” tab\, and then “Create HQ Makerspace”. For both options\, scroll all the way down for the reservation prompt. \nPlease call 303-536-4550 if you have any questions or come in during open hours.
URL:https://thehudsonpubliclibrary.org/event/create-hq-by-appointment-3-3-2/2026-04-28/
LOCATION:Hudson Public Library\, 100 Beech Street\, Hudson\, 80642\, United States
CATEGORIES:Create HQ
ATTACH;FMTTYPE=image/png:https://thehudsonpubliclibrary.org/wp-content/uploads/2025/12/January-Event-Flyers-1.png
END:VEVENT
BEGIN:VEVENT
DTSTART;TZID=America/Denver:20260428T170000
DTEND;TZID=America/Denver:20260428T180000
DTSTAMP:20260423T034313
CREATED:20260316T212246Z
LAST-MODIFIED:20260317T145744Z
UID:10006155-1777395600-1777399200@thehudsonpubliclibrary.org
SUMMARY:Adult Yoga
DESCRIPTION:This class is a yoga flow class designed with a creative sequence. It will leave you feeling energized and challenged. No sign-up required\, but a waiver must be filled out before attending you can find it at https://www.jesskingyoga.com/services. \nPlease call 303-536-4550 if you have any questions or stop by during open hours.
URL:https://thehudsonpubliclibrary.org/event/adult-yoga-3-2-2/2026-04-28/
LOCATION:Hudson Public Library\, 100 Beech Street\, Hudson\, 80642\, United States
ATTACH;FMTTYPE=image/png:https://thehudsonpubliclibrary.org/wp-content/uploads/2026/01/March-Website-Flyers-2.png
END:VEVENT
BEGIN:VEVENT
DTSTART;TZID=America/Denver:20260429T080000
DTEND;TZID=America/Denver:20260429T170000
DTSTAMP:20260423T034313
CREATED:20260317T220035Z
LAST-MODIFIED:20260317T220035Z
UID:10007059-1777449600-1777482000@thehudsonpubliclibrary.org
SUMMARY:District Art Show
DESCRIPTION:
URL:https://thehudsonpubliclibrary.org/event/district-art-show/2026-04-29/
LOCATION:Hudson Public Library\, 100 Beech Street\, Hudson\, 80642\, United States
CATEGORIES:Community Events
END:VEVENT
BEGIN:VEVENT
DTSTART;TZID=America/Denver:20260429T093000
DTEND;TZID=America/Denver:20260429T100000
DTSTAMP:20260423T034313
CREATED:20260317T150423Z
LAST-MODIFIED:20260317T150423Z
UID:10007000-1777455000-1777456800@thehudsonpubliclibrary.org
SUMMARY:Wiggle Worm Storytime - First Session
DESCRIPTION:Join us for Storytime! Stories\, rhymes\, music and lots of movement. It’s perfect for your wiggle worms. \nPlease call 303-536-4550 if you have any questions or come in during open hours.
URL:https://thehudsonpubliclibrary.org/event/wiggle-worm-storytime-first-session-2/2026-04-29/
LOCATION:Hudson Public Library\, 100 Beech Street\, Hudson\, 80642\, United States
ATTACH;FMTTYPE=image/png:https://thehudsonpubliclibrary.org/wp-content/uploads/2026/01/March-Website-Flyers-.png
END:VEVENT
BEGIN:VEVENT
DTSTART;TZID=America/Denver:20260429T103000
DTEND;TZID=America/Denver:20260429T110000
DTSTAMP:20260423T034313
CREATED:20260316T203259Z
LAST-MODIFIED:20260317T150510Z
UID:10007008-1777458600-1777460400@thehudsonpubliclibrary.org
SUMMARY:Wiggle Worm Storytime - Second Session
DESCRIPTION:Join us for Storytime! Stories\, rhymes\, music and lots of movement. It’s perfect for your wiggle worms. \nPlease call 303-536-4550 if you have any questions or come in during open hours.
URL:https://thehudsonpubliclibrary.org/event/wiggle-worm-storytime-second-session-2-2-2-2-2/2026-04-29/
LOCATION:Hudson Public Library\, 100 Beech Street\, Hudson\, 80642\, United States
ATTACH;FMTTYPE=image/png:https://thehudsonpubliclibrary.org/wp-content/uploads/2026/02/April-Website-Flyers-9.png
END:VEVENT
BEGIN:VEVENT
DTSTART;TZID=America/Denver:20260430T080000
DTEND;TZID=America/Denver:20260430T170000
DTSTAMP:20260423T034313
CREATED:20260317T220035Z
LAST-MODIFIED:20260317T220035Z
UID:10007060-1777536000-1777568400@thehudsonpubliclibrary.org
SUMMARY:District Art Show
DESCRIPTION:
URL:https://thehudsonpubliclibrary.org/event/district-art-show/2026-04-30/
LOCATION:Hudson Public Library\, 100 Beech Street\, Hudson\, 80642\, United States
CATEGORIES:Community Events
END:VEVENT
BEGIN:VEVENT
DTSTART;TZID=America/Denver:20260430T083000
DTEND;TZID=America/Denver:20260430T093000
DTSTAMP:20260423T034313
CREATED:20260316T212030Z
LAST-MODIFIED:20260318T150947Z
UID:10006526-1777537800-1777541400@thehudsonpubliclibrary.org
SUMMARY:Adult Yoga
DESCRIPTION:This class is a yoga flow class designed with a creative sequence. It will leave you feeling energized and challenged. No sign-up required\, but a waiver must be filled out before attending you can find it at https://www.jesskingyoga.com/services.\nPlease call 303-536-4550 if you have any questions or stop by during open hours.
URL:https://thehudsonpubliclibrary.org/event/adult-yoga-2-2-2-2/2026-04-30/
LOCATION:Hudson Public Library\, 100 Beech Street\, Hudson\, 80642\, United States
ATTACH;FMTTYPE=image/png:https://thehudsonpubliclibrary.org/wp-content/uploads/2026/01/March-Website-Flyers-2.png
END:VEVENT
BEGIN:VEVENT
DTSTART;TZID=America/Denver:20260430T100000
DTEND;TZID=America/Denver:20260430T110000
DTSTAMP:20260423T034313
CREATED:20260316T210732Z
LAST-MODIFIED:20260317T145924Z
UID:10006947-1777543200-1777546800@thehudsonpubliclibrary.org
SUMMARY:Chair Yoga
DESCRIPTION:Join Jess King for a chair yoga exercise to strengthen the body\, increase mobility\, and promote overall health of the mind and body. \nPlease call 303-536-4550 if you have any questions or come in during open hours.
URL:https://thehudsonpubliclibrary.org/event/chair-yoga-2-2-2-2/2026-04-30/
LOCATION:Hudson Public Library\, 100 Beech Street\, Hudson\, 80642\, United States
ATTACH;FMTTYPE=image/png:https://thehudsonpubliclibrary.org/wp-content/uploads/2026/01/March-Website-Flyers-1.png
END:VEVENT
BEGIN:VEVENT
DTSTART;TZID=America/Denver:20260430T140000
DTEND;TZID=America/Denver:20260430T170000
DTSTAMP:20260423T034313
CREATED:20260317T152121Z
LAST-MODIFIED:20260317T152121Z
UID:10007026-1777557600-1777568400@thehudsonpubliclibrary.org
SUMMARY:Create HQ: By appointment
DESCRIPTION:Create an appointment during open Makerspace hours to learn how to create fun exciting crafts from our array of tools. We have: \n\nHeat Presses\nCricut Makers\nScreen Printer\nPrinters\nLaser engraver\nButton Makers\n3D Printer\nSewing Machines\n\nThese are perfect for creating notebooks\, gifts\, and more! \n\n\nMakerspace hours are by appointment on Tuesdays\, Thursdays and Fridays. To make an appointment\, click on this link: https://thehudsonpubliclibrary.org/services/create-hq/ OR  scroll up and click on the “Services” tab\, and then “Create HQ Makerspace”. For both options\, scroll all the way down for the reservation prompt. \nPlease call 303-536-4550 if you have any questions or come in during open hours.
URL:https://thehudsonpubliclibrary.org/event/create-hq-by-appointment-2-2/2026-04-30/
LOCATION:Hudson Public Library\, 100 Beech Street\, Hudson\, 80642\, United States
CATEGORIES:Create HQ
ATTACH;FMTTYPE=image/png:https://thehudsonpubliclibrary.org/wp-content/uploads/2026/01/March-Website-Flyers-9.png
END:VEVENT
BEGIN:VEVENT
DTSTART;TZID=America/Denver:20260501T080000
DTEND;TZID=America/Denver:20260501T170000
DTSTAMP:20260423T034313
CREATED:20260317T220035Z
LAST-MODIFIED:20260317T220035Z
UID:10007061-1777622400-1777654800@thehudsonpubliclibrary.org
SUMMARY:District Art Show
DESCRIPTION:
URL:https://thehudsonpubliclibrary.org/event/district-art-show/2026-05-01/
LOCATION:Hudson Public Library\, 100 Beech Street\, Hudson\, 80642\, United States
CATEGORIES:Community Events
END:VEVENT
BEGIN:VEVENT
DTSTART;TZID=America/Denver:20260501T110000
DTEND;TZID=America/Denver:20260501T113000
DTSTAMP:20260423T034313
CREATED:20260316T203745Z
LAST-MODIFIED:20260317T150338Z
UID:10006471-1777633200-1777635000@thehudsonpubliclibrary.org
SUMMARY:Bouncing Babies
DESCRIPTION:Join us for songs\, rhymes and fingerplays for babies. Older siblings are encouraged to bring their own baby to interact with. \nPlease call 303-536-4550 if you have any questions or come in during open hours.
URL:https://thehudsonpubliclibrary.org/event/bouncing-babies-3-2-2-2/2026-05-01/
LOCATION:Hudson Public Library\, 100 Beech Street\, Hudson\, 80642\, United States
ATTACH;FMTTYPE=image/png:https://thehudsonpubliclibrary.org/wp-content/uploads/2026/02/April-Website-Flyers-10.png
END:VEVENT
BEGIN:VEVENT
DTSTART;TZID=America/Denver:20260501T140000
DTEND;TZID=America/Denver:20260501T170000
DTSTAMP:20260423T034313
CREATED:20260317T152121Z
LAST-MODIFIED:20260317T152121Z
UID:10007027-1777644000-1777654800@thehudsonpubliclibrary.org
SUMMARY:Create HQ: By appointment
DESCRIPTION:Create an appointment during open Makerspace hours to learn how to create fun exciting crafts from our array of tools. We have: \n\nHeat Presses\nCricut Makers\nScreen Printer\nPrinters\nLaser engraver\nButton Makers\n3D Printer\nSewing Machines\n\nThese are perfect for creating notebooks\, gifts\, and more! \n\n\nMakerspace hours are by appointment on Tuesdays\, Thursdays and Fridays. To make an appointment\, click on this link: https://thehudsonpubliclibrary.org/services/create-hq/ OR  scroll up and click on the “Services” tab\, and then “Create HQ Makerspace”. For both options\, scroll all the way down for the reservation prompt. \nPlease call 303-536-4550 if you have any questions or come in during open hours.
URL:https://thehudsonpubliclibrary.org/event/create-hq-by-appointment-2-2/2026-05-01/
LOCATION:Hudson Public Library\, 100 Beech Street\, Hudson\, 80642\, United States
CATEGORIES:Create HQ
ATTACH;FMTTYPE=image/png:https://thehudsonpubliclibrary.org/wp-content/uploads/2026/01/March-Website-Flyers-9.png
END:VEVENT
BEGIN:VEVENT
DTSTART;TZID=America/Denver:20260502T080000
DTEND;TZID=America/Denver:20260502T170000
DTSTAMP:20260423T034313
CREATED:20260317T220035Z
LAST-MODIFIED:20260317T220035Z
UID:10007062-1777708800-1777741200@thehudsonpubliclibrary.org
SUMMARY:District Art Show
DESCRIPTION:
URL:https://thehudsonpubliclibrary.org/event/district-art-show/2026-05-02/
LOCATION:Hudson Public Library\, 100 Beech Street\, Hudson\, 80642\, United States
CATEGORIES:Community Events
END:VEVENT
BEGIN:VEVENT
DTSTART;TZID=America/Denver:20260502T100000
DTEND;TZID=America/Denver:20260502T130000
DTSTAMP:20260423T034313
CREATED:20260224T185249Z
LAST-MODIFIED:20260317T151808Z
UID:10007019-1777716000-1777726800@thehudsonpubliclibrary.org
SUMMARY:Create HQ: By Appointment
DESCRIPTION:Create an reservation during open Makerspace hours to learn how to create fun exciting crafts from our array of tools. We have: \n\nHeat Presses\nCricut Makers\nScreen Printer\nPrinters\nLaser engraver\nButton Makers\n3D Printer\nSewing Machines\n\nThese are perfect for creating notebooks\, gifts\, and more! \n\n\nMakerspace hours are by reservation on Tuesdays\, Thursdays and Fridays. To make an reservation\, click on this link: https://thehudsonpubliclibrary.org/services/create-hq/ OR  scroll up and click on the “Services” tab\, and then “Create HQ Makerspace”. For both options\, scroll all the way down for the reservation prompt. \nPlease call 303-536-4550 if you have any questions or come in during open hours.
URL:https://thehudsonpubliclibrary.org/event/create-hq-by-appointment-3/2026-05-02/
LOCATION:Hudson Public Library\, 100 Beech Street\, Hudson\, 80642\, United States
ATTACH;FMTTYPE=image/png:https://thehudsonpubliclibrary.org/wp-content/uploads/2026/01/March-Website-Flyers-9.png
END:VEVENT
BEGIN:VEVENT
DTSTART;TZID=America/Denver:20260504T080000
DTEND;TZID=America/Denver:20260504T170000
DTSTAMP:20260423T034313
CREATED:20260317T220035Z
LAST-MODIFIED:20260317T220035Z
UID:10007063-1777881600-1777914000@thehudsonpubliclibrary.org
SUMMARY:District Art Show
DESCRIPTION:
URL:https://thehudsonpubliclibrary.org/event/district-art-show/2026-05-04/
LOCATION:Hudson Public Library\, 100 Beech Street\, Hudson\, 80642\, United States
CATEGORIES:Community Events
END:VEVENT
BEGIN:VEVENT
DTSTART;TZID=America/Denver:20260504T130000
DTEND;TZID=America/Denver:20260504T140000
DTSTAMP:20260423T034313
CREATED:20260316T210850Z
LAST-MODIFIED:20260318T150852Z
UID:10006980-1777899600-1777903200@thehudsonpubliclibrary.org
SUMMARY:Chair Yoga
DESCRIPTION:Join Jess King for a chair yoga exercise to strengthen the body\, increase mobility\, and promote overall health of the mind and body. \nPlease call 303-536-4550 if you have any questions or come in during open hours.
URL:https://thehudsonpubliclibrary.org/event/chair-yoga-3-2-2/2026-05-04/
LOCATION:Hudson Public Library\, 100 Beech Street\, Hudson\, 80642\, United States
ATTACH;FMTTYPE=image/png:https://thehudsonpubliclibrary.org/wp-content/uploads/2026/01/March-Website-Flyers-2.png
END:VEVENT
END:VCALENDAR