BEGIN:VCALENDAR
VERSION:2.0
PRODID:-//Hudson Public Library - ECPv6.15.20//NONSGML v1.0//EN
CALSCALE:GREGORIAN
METHOD:PUBLISH
X-WR-CALNAME:Hudson Public Library
X-ORIGINAL-URL:https://thehudsonpubliclibrary.org
X-WR-CALDESC:Events for Hudson Public Library
REFRESH-INTERVAL;VALUE=DURATION:PT1H
X-Robots-Tag:noindex
X-PUBLISHED-TTL:PT1H
BEGIN:VTIMEZONE
TZID:America/Denver
BEGIN:DAYLIGHT
TZOFFSETFROM:-0700
TZOFFSETTO:-0600
TZNAME:MDT
DTSTART:20250309T090000
END:DAYLIGHT
BEGIN:STANDARD
TZOFFSETFROM:-0600
TZOFFSETTO:-0700
TZNAME:MST
DTSTART:20251102T080000
END:STANDARD
BEGIN:DAYLIGHT
TZOFFSETFROM:-0700
TZOFFSETTO:-0600
TZNAME:MDT
DTSTART:20260308T090000
END:DAYLIGHT
BEGIN:STANDARD
TZOFFSETFROM:-0600
TZOFFSETTO:-0700
TZNAME:MST
DTSTART:20261101T080000
END:STANDARD
BEGIN:DAYLIGHT
TZOFFSETFROM:-0700
TZOFFSETTO:-0600
TZNAME:MDT
DTSTART:20270314T090000
END:DAYLIGHT
BEGIN:STANDARD
TZOFFSETFROM:-0600
TZOFFSETTO:-0700
TZNAME:MST
DTSTART:20271107T080000
END:STANDARD
END:VTIMEZONE
BEGIN:VEVENT
DTSTART;TZID=America/Denver:20260424T110000
DTEND;TZID=America/Denver:20260424T113000
DTSTAMP:20260420T073814
CREATED:20260316T203745Z
LAST-MODIFIED:20260317T150338Z
UID:10006470-1777028400-1777030200@thehudsonpubliclibrary.org
SUMMARY:Bouncing Babies
DESCRIPTION:Join us for songs\, rhymes and fingerplays for babies. Older siblings are encouraged to bring their own baby to interact with. \nPlease call 303-536-4550 if you have any questions or come in during open hours.
URL:https://thehudsonpubliclibrary.org/event/bouncing-babies-3-2-2-2/2026-04-24/
LOCATION:Hudson Public Library\, 100 Beech Street\, Hudson\, 80642\, United States
ATTACH;FMTTYPE=image/png:https://thehudsonpubliclibrary.org/wp-content/uploads/2026/02/April-Website-Flyers-10.png
END:VEVENT
BEGIN:VEVENT
DTSTART;TZID=America/Denver:20260501T110000
DTEND;TZID=America/Denver:20260501T113000
DTSTAMP:20260420T073814
CREATED:20260316T203745Z
LAST-MODIFIED:20260317T150338Z
UID:10006471-1777633200-1777635000@thehudsonpubliclibrary.org
SUMMARY:Bouncing Babies
DESCRIPTION:Join us for songs\, rhymes and fingerplays for babies. Older siblings are encouraged to bring their own baby to interact with. \nPlease call 303-536-4550 if you have any questions or come in during open hours.
URL:https://thehudsonpubliclibrary.org/event/bouncing-babies-3-2-2-2/2026-05-01/
LOCATION:Hudson Public Library\, 100 Beech Street\, Hudson\, 80642\, United States
ATTACH;FMTTYPE=image/png:https://thehudsonpubliclibrary.org/wp-content/uploads/2026/02/April-Website-Flyers-10.png
END:VEVENT
BEGIN:VEVENT
DTSTART;TZID=America/Denver:20260508T110000
DTEND;TZID=America/Denver:20260508T113000
DTSTAMP:20260420T073814
CREATED:20260316T203745Z
LAST-MODIFIED:20260317T150338Z
UID:10006993-1778238000-1778239800@thehudsonpubliclibrary.org
SUMMARY:Bouncing Babies
DESCRIPTION:Join us for songs\, rhymes and fingerplays for babies. Older siblings are encouraged to bring their own baby to interact with. \nPlease call 303-536-4550 if you have any questions or come in during open hours.
URL:https://thehudsonpubliclibrary.org/event/bouncing-babies-3-2-2-2/2026-05-08/
LOCATION:Hudson Public Library\, 100 Beech Street\, Hudson\, 80642\, United States
ATTACH;FMTTYPE=image/png:https://thehudsonpubliclibrary.org/wp-content/uploads/2026/02/April-Website-Flyers-10.png
END:VEVENT
BEGIN:VEVENT
DTSTART;TZID=America/Denver:20260515T110000
DTEND;TZID=America/Denver:20260515T113000
DTSTAMP:20260420T073814
CREATED:20260316T203745Z
LAST-MODIFIED:20260317T150338Z
UID:10006994-1778842800-1778844600@thehudsonpubliclibrary.org
SUMMARY:Bouncing Babies
DESCRIPTION:Join us for songs\, rhymes and fingerplays for babies. Older siblings are encouraged to bring their own baby to interact with. \nPlease call 303-536-4550 if you have any questions or come in during open hours.
URL:https://thehudsonpubliclibrary.org/event/bouncing-babies-3-2-2-2/2026-05-15/
LOCATION:Hudson Public Library\, 100 Beech Street\, Hudson\, 80642\, United States
ATTACH;FMTTYPE=image/png:https://thehudsonpubliclibrary.org/wp-content/uploads/2026/02/April-Website-Flyers-10.png
END:VEVENT
BEGIN:VEVENT
DTSTART;TZID=America/Denver:20260522T110000
DTEND;TZID=America/Denver:20260522T113000
DTSTAMP:20260420T073814
CREATED:20260316T203745Z
LAST-MODIFIED:20260317T150338Z
UID:10006995-1779447600-1779449400@thehudsonpubliclibrary.org
SUMMARY:Bouncing Babies
DESCRIPTION:Join us for songs\, rhymes and fingerplays for babies. Older siblings are encouraged to bring their own baby to interact with. \nPlease call 303-536-4550 if you have any questions or come in during open hours.
URL:https://thehudsonpubliclibrary.org/event/bouncing-babies-3-2-2-2/2026-05-22/
LOCATION:Hudson Public Library\, 100 Beech Street\, Hudson\, 80642\, United States
ATTACH;FMTTYPE=image/png:https://thehudsonpubliclibrary.org/wp-content/uploads/2026/02/April-Website-Flyers-10.png
END:VEVENT
BEGIN:VEVENT
DTSTART;TZID=America/Denver:20260529T110000
DTEND;TZID=America/Denver:20260529T113000
DTSTAMP:20260420T073814
CREATED:20260316T203745Z
LAST-MODIFIED:20260317T150338Z
UID:10006996-1780052400-1780054200@thehudsonpubliclibrary.org
SUMMARY:Bouncing Babies
DESCRIPTION:Join us for songs\, rhymes and fingerplays for babies. Older siblings are encouraged to bring their own baby to interact with. \nPlease call 303-536-4550 if you have any questions or come in during open hours.
URL:https://thehudsonpubliclibrary.org/event/bouncing-babies-3-2-2-2/2026-05-29/
LOCATION:Hudson Public Library\, 100 Beech Street\, Hudson\, 80642\, United States
ATTACH;FMTTYPE=image/png:https://thehudsonpubliclibrary.org/wp-content/uploads/2026/02/April-Website-Flyers-10.png
END:VEVENT
END:VCALENDAR