BEGIN:VCALENDAR
VERSION:2.0
PRODID:-//Hudson Public Library - ECPv6.15.20//NONSGML v1.0//EN
CALSCALE:GREGORIAN
METHOD:PUBLISH
X-WR-CALNAME:Hudson Public Library
X-ORIGINAL-URL:https://thehudsonpubliclibrary.org
X-WR-CALDESC:Events for Hudson Public Library
REFRESH-INTERVAL;VALUE=DURATION:PT1H
X-Robots-Tag:noindex
X-PUBLISHED-TTL:PT1H
BEGIN:VTIMEZONE
TZID:America/Denver
BEGIN:DAYLIGHT
TZOFFSETFROM:-0700
TZOFFSETTO:-0600
TZNAME:MDT
DTSTART:20250309T090000
END:DAYLIGHT
BEGIN:STANDARD
TZOFFSETFROM:-0600
TZOFFSETTO:-0700
TZNAME:MST
DTSTART:20251102T080000
END:STANDARD
BEGIN:DAYLIGHT
TZOFFSETFROM:-0700
TZOFFSETTO:-0600
TZNAME:MDT
DTSTART:20260308T090000
END:DAYLIGHT
BEGIN:STANDARD
TZOFFSETFROM:-0600
TZOFFSETTO:-0700
TZNAME:MST
DTSTART:20261101T080000
END:STANDARD
BEGIN:DAYLIGHT
TZOFFSETFROM:-0700
TZOFFSETTO:-0600
TZNAME:MDT
DTSTART:20270314T090000
END:DAYLIGHT
BEGIN:STANDARD
TZOFFSETFROM:-0600
TZOFFSETTO:-0700
TZNAME:MST
DTSTART:20271107T080000
END:STANDARD
END:VTIMEZONE
BEGIN:VEVENT
DTSTART;TZID=America/Denver:20260303T140000
DTEND;TZID=America/Denver:20260303T170000
DTSTAMP:20260425T042204
CREATED:20260219T223546Z
LAST-MODIFIED:20260219T223546Z
UID:10006839-1772546400-1772557200@thehudsonpubliclibrary.org
SUMMARY:Create HQ: By appointment
DESCRIPTION:Create an appointment during open Makerspace hours to learn how to create fun exciting crafts from our array of tools. We have: \n\nHeat Presses\nCricut Makers\nScreen Printer\nPrinters\nLaser engraver\nButton Makers\n3D Printer\nSewing Machines\n\nThese are perfect for creating notebooks\, gifts\, and more! \n\n\nMakerspace hours are by appointment on Tuesdays\, Thursdays and Fridays. To make an appointment\, click on this link: https://thehudsonpubliclibrary.org/services/create-hq/ OR  scroll up and click on the “Services” tab\, and then “Create HQ Makerspace”. For both options\, scroll all the way down for the reservation prompt. \nPlease call 303-536-4550 if you have any questions or come in during open hours.
URL:https://thehudsonpubliclibrary.org/event/create-hq-by-appointment-2/2026-03-03/
LOCATION:Hudson Public Library\, 100 Beech Street\, Hudson\, 80642\, United States
CATEGORIES:Create HQ
ATTACH;FMTTYPE=image/png:https://thehudsonpubliclibrary.org/wp-content/uploads/2026/01/March-Website-Flyers-9.png
END:VEVENT
BEGIN:VEVENT
DTSTART;TZID=America/Denver:20260303T160000
DTEND;TZID=America/Denver:20260303T190000
DTSTAMP:20260425T042204
CREATED:20260126T231444Z
LAST-MODIFIED:20260127T231117Z
UID:10006576-1772553600-1772564400@thehudsonpubliclibrary.org
SUMMARY:Create HQ: By Appointment
DESCRIPTION:Create an appointment during open Makerspace hours to learn how to create fun exciting crafts from our array of tools. We have: \n\nHeat Presses\nCricut Makers\nScreen Printer\nPrinters\nLaser engraver\nButton Makers\n3D Printer\nSewing Machines\n\nThese are perfect for creating notebooks\, gifts\, and more! \n\n\nMakerspace hours are by appointment on Tuesdays\, Thursdays and Fridays. To make an appointment\, click on this link: https://thehudsonpubliclibrary.org/services/create-hq/ OR  scroll up and click on the “Services” tab\, and then “Create HQ Makerspace”. For both options\, scroll all the way down for the reservation prompt. \nPlease call 303-536-4550 if you have any questions or come in during open hours.
URL:https://thehudsonpubliclibrary.org/event/create-hq-by-appointment-3-3/2026-03-03/
LOCATION:Hudson Public Library\, 100 Beech Street\, Hudson\, 80642\, United States
CATEGORIES:Create HQ
ATTACH;FMTTYPE=image/png:https://thehudsonpubliclibrary.org/wp-content/uploads/2025/12/January-Event-Flyers-1.png
END:VEVENT
BEGIN:VEVENT
DTSTART;TZID=America/Denver:20260305T140000
DTEND;TZID=America/Denver:20260305T170000
DTSTAMP:20260425T042204
CREATED:20260219T223546Z
LAST-MODIFIED:20260219T223546Z
UID:10006840-1772719200-1772730000@thehudsonpubliclibrary.org
SUMMARY:Create HQ: By appointment
DESCRIPTION:Create an appointment during open Makerspace hours to learn how to create fun exciting crafts from our array of tools. We have: \n\nHeat Presses\nCricut Makers\nScreen Printer\nPrinters\nLaser engraver\nButton Makers\n3D Printer\nSewing Machines\n\nThese are perfect for creating notebooks\, gifts\, and more! \n\n\nMakerspace hours are by appointment on Tuesdays\, Thursdays and Fridays. To make an appointment\, click on this link: https://thehudsonpubliclibrary.org/services/create-hq/ OR  scroll up and click on the “Services” tab\, and then “Create HQ Makerspace”. For both options\, scroll all the way down for the reservation prompt. \nPlease call 303-536-4550 if you have any questions or come in during open hours.
URL:https://thehudsonpubliclibrary.org/event/create-hq-by-appointment-2/2026-03-05/
LOCATION:Hudson Public Library\, 100 Beech Street\, Hudson\, 80642\, United States
CATEGORIES:Create HQ
ATTACH;FMTTYPE=image/png:https://thehudsonpubliclibrary.org/wp-content/uploads/2026/01/March-Website-Flyers-9.png
END:VEVENT
BEGIN:VEVENT
DTSTART;TZID=America/Denver:20260306T140000
DTEND;TZID=America/Denver:20260306T170000
DTSTAMP:20260425T042204
CREATED:20260219T223546Z
LAST-MODIFIED:20260219T223546Z
UID:10006841-1772805600-1772816400@thehudsonpubliclibrary.org
SUMMARY:Create HQ: By appointment
DESCRIPTION:Create an appointment during open Makerspace hours to learn how to create fun exciting crafts from our array of tools. We have: \n\nHeat Presses\nCricut Makers\nScreen Printer\nPrinters\nLaser engraver\nButton Makers\n3D Printer\nSewing Machines\n\nThese are perfect for creating notebooks\, gifts\, and more! \n\n\nMakerspace hours are by appointment on Tuesdays\, Thursdays and Fridays. To make an appointment\, click on this link: https://thehudsonpubliclibrary.org/services/create-hq/ OR  scroll up and click on the “Services” tab\, and then “Create HQ Makerspace”. For both options\, scroll all the way down for the reservation prompt. \nPlease call 303-536-4550 if you have any questions or come in during open hours.
URL:https://thehudsonpubliclibrary.org/event/create-hq-by-appointment-2/2026-03-06/
LOCATION:Hudson Public Library\, 100 Beech Street\, Hudson\, 80642\, United States
CATEGORIES:Create HQ
ATTACH;FMTTYPE=image/png:https://thehudsonpubliclibrary.org/wp-content/uploads/2026/01/March-Website-Flyers-9.png
END:VEVENT
BEGIN:VEVENT
DTSTART;TZID=America/Denver:20260310T160000
DTEND;TZID=America/Denver:20260310T190000
DTSTAMP:20260425T042204
CREATED:20260126T231444Z
LAST-MODIFIED:20260127T231117Z
UID:10006577-1773158400-1773169200@thehudsonpubliclibrary.org
SUMMARY:Create HQ: By Appointment
DESCRIPTION:Create an appointment during open Makerspace hours to learn how to create fun exciting crafts from our array of tools. We have: \n\nHeat Presses\nCricut Makers\nScreen Printer\nPrinters\nLaser engraver\nButton Makers\n3D Printer\nSewing Machines\n\nThese are perfect for creating notebooks\, gifts\, and more! \n\n\nMakerspace hours are by appointment on Tuesdays\, Thursdays and Fridays. To make an appointment\, click on this link: https://thehudsonpubliclibrary.org/services/create-hq/ OR  scroll up and click on the “Services” tab\, and then “Create HQ Makerspace”. For both options\, scroll all the way down for the reservation prompt. \nPlease call 303-536-4550 if you have any questions or come in during open hours.
URL:https://thehudsonpubliclibrary.org/event/create-hq-by-appointment-3-3/2026-03-10/
LOCATION:Hudson Public Library\, 100 Beech Street\, Hudson\, 80642\, United States
CATEGORIES:Create HQ
ATTACH;FMTTYPE=image/png:https://thehudsonpubliclibrary.org/wp-content/uploads/2025/12/January-Event-Flyers-1.png
END:VEVENT
BEGIN:VEVENT
DTSTART;TZID=America/Denver:20260312T140000
DTEND;TZID=America/Denver:20260312T170000
DTSTAMP:20260425T042204
CREATED:20260219T223546Z
LAST-MODIFIED:20260219T223546Z
UID:10006842-1773324000-1773334800@thehudsonpubliclibrary.org
SUMMARY:Create HQ: By appointment
DESCRIPTION:Create an appointment during open Makerspace hours to learn how to create fun exciting crafts from our array of tools. We have: \n\nHeat Presses\nCricut Makers\nScreen Printer\nPrinters\nLaser engraver\nButton Makers\n3D Printer\nSewing Machines\n\nThese are perfect for creating notebooks\, gifts\, and more! \n\n\nMakerspace hours are by appointment on Tuesdays\, Thursdays and Fridays. To make an appointment\, click on this link: https://thehudsonpubliclibrary.org/services/create-hq/ OR  scroll up and click on the “Services” tab\, and then “Create HQ Makerspace”. For both options\, scroll all the way down for the reservation prompt. \nPlease call 303-536-4550 if you have any questions or come in during open hours.
URL:https://thehudsonpubliclibrary.org/event/create-hq-by-appointment-2/2026-03-12/
LOCATION:Hudson Public Library\, 100 Beech Street\, Hudson\, 80642\, United States
CATEGORIES:Create HQ
ATTACH;FMTTYPE=image/png:https://thehudsonpubliclibrary.org/wp-content/uploads/2026/01/March-Website-Flyers-9.png
END:VEVENT
BEGIN:VEVENT
DTSTART;TZID=America/Denver:20260313T140000
DTEND;TZID=America/Denver:20260313T170000
DTSTAMP:20260425T042204
CREATED:20260219T223546Z
LAST-MODIFIED:20260219T223546Z
UID:10006843-1773410400-1773421200@thehudsonpubliclibrary.org
SUMMARY:Create HQ: By appointment
DESCRIPTION:Create an appointment during open Makerspace hours to learn how to create fun exciting crafts from our array of tools. We have: \n\nHeat Presses\nCricut Makers\nScreen Printer\nPrinters\nLaser engraver\nButton Makers\n3D Printer\nSewing Machines\n\nThese are perfect for creating notebooks\, gifts\, and more! \n\n\nMakerspace hours are by appointment on Tuesdays\, Thursdays and Fridays. To make an appointment\, click on this link: https://thehudsonpubliclibrary.org/services/create-hq/ OR  scroll up and click on the “Services” tab\, and then “Create HQ Makerspace”. For both options\, scroll all the way down for the reservation prompt. \nPlease call 303-536-4550 if you have any questions or come in during open hours.
URL:https://thehudsonpubliclibrary.org/event/create-hq-by-appointment-2/2026-03-13/
LOCATION:Hudson Public Library\, 100 Beech Street\, Hudson\, 80642\, United States
CATEGORIES:Create HQ
ATTACH;FMTTYPE=image/png:https://thehudsonpubliclibrary.org/wp-content/uploads/2026/01/March-Website-Flyers-9.png
END:VEVENT
BEGIN:VEVENT
DTSTART;TZID=America/Denver:20260317T160000
DTEND;TZID=America/Denver:20260317T190000
DTSTAMP:20260425T042204
CREATED:20260317T151905Z
LAST-MODIFIED:20260317T151905Z
UID:10006578-1773763200-1773774000@thehudsonpubliclibrary.org
SUMMARY:Create HQ: By Appointment
DESCRIPTION:Create an appointment during open Makerspace hours to learn how to create fun exciting crafts from our array of tools. We have: \n\nHeat Presses\nCricut Makers\nScreen Printer\nPrinters\nLaser engraver\nButton Makers\n3D Printer\nSewing Machines\n\nThese are perfect for creating notebooks\, gifts\, and more! \n\n\nMakerspace hours are by appointment on Tuesdays\, Thursdays and Fridays. To make an appointment\, click on this link: https://thehudsonpubliclibrary.org/services/create-hq/ OR  scroll up and click on the “Services” tab\, and then “Create HQ Makerspace”. For both options\, scroll all the way down for the reservation prompt. \nPlease call 303-536-4550 if you have any questions or come in during open hours.
URL:https://thehudsonpubliclibrary.org/event/create-hq-by-appointment-3-3-2/2026-03-17/
LOCATION:Hudson Public Library\, 100 Beech Street\, Hudson\, 80642\, United States
CATEGORIES:Create HQ
ATTACH;FMTTYPE=image/png:https://thehudsonpubliclibrary.org/wp-content/uploads/2025/12/January-Event-Flyers-1.png
END:VEVENT
BEGIN:VEVENT
DTSTART;TZID=America/Denver:20260319T140000
DTEND;TZID=America/Denver:20260319T170000
DTSTAMP:20260425T042204
CREATED:20260317T152121Z
LAST-MODIFIED:20260317T152121Z
UID:10006844-1773928800-1773939600@thehudsonpubliclibrary.org
SUMMARY:Create HQ: By appointment
DESCRIPTION:Create an appointment during open Makerspace hours to learn how to create fun exciting crafts from our array of tools. We have: \n\nHeat Presses\nCricut Makers\nScreen Printer\nPrinters\nLaser engraver\nButton Makers\n3D Printer\nSewing Machines\n\nThese are perfect for creating notebooks\, gifts\, and more! \n\n\nMakerspace hours are by appointment on Tuesdays\, Thursdays and Fridays. To make an appointment\, click on this link: https://thehudsonpubliclibrary.org/services/create-hq/ OR  scroll up and click on the “Services” tab\, and then “Create HQ Makerspace”. For both options\, scroll all the way down for the reservation prompt. \nPlease call 303-536-4550 if you have any questions or come in during open hours.
URL:https://thehudsonpubliclibrary.org/event/create-hq-by-appointment-2-2/2026-03-19/
LOCATION:Hudson Public Library\, 100 Beech Street\, Hudson\, 80642\, United States
CATEGORIES:Create HQ
ATTACH;FMTTYPE=image/png:https://thehudsonpubliclibrary.org/wp-content/uploads/2026/01/March-Website-Flyers-9.png
END:VEVENT
BEGIN:VEVENT
DTSTART;TZID=America/Denver:20260320T140000
DTEND;TZID=America/Denver:20260320T170000
DTSTAMP:20260425T042204
CREATED:20260317T152121Z
LAST-MODIFIED:20260317T152121Z
UID:10006845-1774015200-1774026000@thehudsonpubliclibrary.org
SUMMARY:Create HQ: By appointment
DESCRIPTION:Create an appointment during open Makerspace hours to learn how to create fun exciting crafts from our array of tools. We have: \n\nHeat Presses\nCricut Makers\nScreen Printer\nPrinters\nLaser engraver\nButton Makers\n3D Printer\nSewing Machines\n\nThese are perfect for creating notebooks\, gifts\, and more! \n\n\nMakerspace hours are by appointment on Tuesdays\, Thursdays and Fridays. To make an appointment\, click on this link: https://thehudsonpubliclibrary.org/services/create-hq/ OR  scroll up and click on the “Services” tab\, and then “Create HQ Makerspace”. For both options\, scroll all the way down for the reservation prompt. \nPlease call 303-536-4550 if you have any questions or come in during open hours.
URL:https://thehudsonpubliclibrary.org/event/create-hq-by-appointment-2-2/2026-03-20/
LOCATION:Hudson Public Library\, 100 Beech Street\, Hudson\, 80642\, United States
CATEGORIES:Create HQ
ATTACH;FMTTYPE=image/png:https://thehudsonpubliclibrary.org/wp-content/uploads/2026/01/March-Website-Flyers-9.png
END:VEVENT
BEGIN:VEVENT
DTSTART;TZID=America/Denver:20260324T160000
DTEND;TZID=America/Denver:20260324T190000
DTSTAMP:20260425T042204
CREATED:20260317T151905Z
LAST-MODIFIED:20260317T151905Z
UID:10006579-1774368000-1774378800@thehudsonpubliclibrary.org
SUMMARY:Create HQ: By Appointment
DESCRIPTION:Create an appointment during open Makerspace hours to learn how to create fun exciting crafts from our array of tools. We have: \n\nHeat Presses\nCricut Makers\nScreen Printer\nPrinters\nLaser engraver\nButton Makers\n3D Printer\nSewing Machines\n\nThese are perfect for creating notebooks\, gifts\, and more! \n\n\nMakerspace hours are by appointment on Tuesdays\, Thursdays and Fridays. To make an appointment\, click on this link: https://thehudsonpubliclibrary.org/services/create-hq/ OR  scroll up and click on the “Services” tab\, and then “Create HQ Makerspace”. For both options\, scroll all the way down for the reservation prompt. \nPlease call 303-536-4550 if you have any questions or come in during open hours.
URL:https://thehudsonpubliclibrary.org/event/create-hq-by-appointment-3-3-2/2026-03-24/
LOCATION:Hudson Public Library\, 100 Beech Street\, Hudson\, 80642\, United States
CATEGORIES:Create HQ
ATTACH;FMTTYPE=image/png:https://thehudsonpubliclibrary.org/wp-content/uploads/2025/12/January-Event-Flyers-1.png
END:VEVENT
BEGIN:VEVENT
DTSTART;TZID=America/Denver:20260326T140000
DTEND;TZID=America/Denver:20260326T170000
DTSTAMP:20260425T042204
CREATED:20260317T152121Z
LAST-MODIFIED:20260317T152121Z
UID:10006846-1774533600-1774544400@thehudsonpubliclibrary.org
SUMMARY:Create HQ: By appointment
DESCRIPTION:Create an appointment during open Makerspace hours to learn how to create fun exciting crafts from our array of tools. We have: \n\nHeat Presses\nCricut Makers\nScreen Printer\nPrinters\nLaser engraver\nButton Makers\n3D Printer\nSewing Machines\n\nThese are perfect for creating notebooks\, gifts\, and more! \n\n\nMakerspace hours are by appointment on Tuesdays\, Thursdays and Fridays. To make an appointment\, click on this link: https://thehudsonpubliclibrary.org/services/create-hq/ OR  scroll up and click on the “Services” tab\, and then “Create HQ Makerspace”. For both options\, scroll all the way down for the reservation prompt. \nPlease call 303-536-4550 if you have any questions or come in during open hours.
URL:https://thehudsonpubliclibrary.org/event/create-hq-by-appointment-2-2/2026-03-26/
LOCATION:Hudson Public Library\, 100 Beech Street\, Hudson\, 80642\, United States
CATEGORIES:Create HQ
ATTACH;FMTTYPE=image/png:https://thehudsonpubliclibrary.org/wp-content/uploads/2026/01/March-Website-Flyers-9.png
END:VEVENT
BEGIN:VEVENT
DTSTART;TZID=America/Denver:20260327T140000
DTEND;TZID=America/Denver:20260327T170000
DTSTAMP:20260425T042204
CREATED:20260317T152121Z
LAST-MODIFIED:20260317T152121Z
UID:10006847-1774620000-1774630800@thehudsonpubliclibrary.org
SUMMARY:Create HQ: By appointment
DESCRIPTION:Create an appointment during open Makerspace hours to learn how to create fun exciting crafts from our array of tools. We have: \n\nHeat Presses\nCricut Makers\nScreen Printer\nPrinters\nLaser engraver\nButton Makers\n3D Printer\nSewing Machines\n\nThese are perfect for creating notebooks\, gifts\, and more! \n\n\nMakerspace hours are by appointment on Tuesdays\, Thursdays and Fridays. To make an appointment\, click on this link: https://thehudsonpubliclibrary.org/services/create-hq/ OR  scroll up and click on the “Services” tab\, and then “Create HQ Makerspace”. For both options\, scroll all the way down for the reservation prompt. \nPlease call 303-536-4550 if you have any questions or come in during open hours.
URL:https://thehudsonpubliclibrary.org/event/create-hq-by-appointment-2-2/2026-03-27/
LOCATION:Hudson Public Library\, 100 Beech Street\, Hudson\, 80642\, United States
CATEGORIES:Create HQ
ATTACH;FMTTYPE=image/png:https://thehudsonpubliclibrary.org/wp-content/uploads/2026/01/March-Website-Flyers-9.png
END:VEVENT
BEGIN:VEVENT
DTSTART;TZID=America/Denver:20260331T160000
DTEND;TZID=America/Denver:20260331T190000
DTSTAMP:20260425T042204
CREATED:20260317T151905Z
LAST-MODIFIED:20260317T151905Z
UID:10006580-1774972800-1774983600@thehudsonpubliclibrary.org
SUMMARY:Create HQ: By Appointment
DESCRIPTION:Create an appointment during open Makerspace hours to learn how to create fun exciting crafts from our array of tools. We have: \n\nHeat Presses\nCricut Makers\nScreen Printer\nPrinters\nLaser engraver\nButton Makers\n3D Printer\nSewing Machines\n\nThese are perfect for creating notebooks\, gifts\, and more! \n\n\nMakerspace hours are by appointment on Tuesdays\, Thursdays and Fridays. To make an appointment\, click on this link: https://thehudsonpubliclibrary.org/services/create-hq/ OR  scroll up and click on the “Services” tab\, and then “Create HQ Makerspace”. For both options\, scroll all the way down for the reservation prompt. \nPlease call 303-536-4550 if you have any questions or come in during open hours.
URL:https://thehudsonpubliclibrary.org/event/create-hq-by-appointment-3-3-2/2026-03-31/
LOCATION:Hudson Public Library\, 100 Beech Street\, Hudson\, 80642\, United States
CATEGORIES:Create HQ
ATTACH;FMTTYPE=image/png:https://thehudsonpubliclibrary.org/wp-content/uploads/2025/12/January-Event-Flyers-1.png
END:VEVENT
END:VCALENDAR