BEGIN:VCALENDAR
VERSION:2.0
PRODID:-//Hudson Public Library - ECPv6.15.20//NONSGML v1.0//EN
CALSCALE:GREGORIAN
METHOD:PUBLISH
X-WR-CALNAME:Hudson Public Library
X-ORIGINAL-URL:https://thehudsonpubliclibrary.org
X-WR-CALDESC:Events for Hudson Public Library
REFRESH-INTERVAL;VALUE=DURATION:PT1H
X-Robots-Tag:noindex
X-PUBLISHED-TTL:PT1H
BEGIN:VTIMEZONE
TZID:America/Denver
BEGIN:DAYLIGHT
TZOFFSETFROM:-0700
TZOFFSETTO:-0600
TZNAME:MDT
DTSTART:20250309T090000
END:DAYLIGHT
BEGIN:STANDARD
TZOFFSETFROM:-0600
TZOFFSETTO:-0700
TZNAME:MST
DTSTART:20251102T080000
END:STANDARD
BEGIN:DAYLIGHT
TZOFFSETFROM:-0700
TZOFFSETTO:-0600
TZNAME:MDT
DTSTART:20260308T090000
END:DAYLIGHT
BEGIN:STANDARD
TZOFFSETFROM:-0600
TZOFFSETTO:-0700
TZNAME:MST
DTSTART:20261101T080000
END:STANDARD
BEGIN:DAYLIGHT
TZOFFSETFROM:-0700
TZOFFSETTO:-0600
TZNAME:MDT
DTSTART:20270314T090000
END:DAYLIGHT
BEGIN:STANDARD
TZOFFSETFROM:-0600
TZOFFSETTO:-0700
TZNAME:MST
DTSTART:20271107T080000
END:STANDARD
END:VTIMEZONE
BEGIN:VEVENT
DTSTART;TZID=America/Denver:20260302T110000
DTEND;TZID=America/Denver:20260302T140000
DTSTAMP:20260419T123244
CREATED:20251210T182741Z
LAST-MODIFIED:20260318T000159Z
UID:10006905-1772449200-1772460000@thehudsonpubliclibrary.org
SUMMARY:Bookmobile at Aladdin & Charleston Assisted Living
DESCRIPTION:Facility only Bookmobile stop
URL:https://thehudsonpubliclibrary.org/event/bookmobile-at-aladdin-charleston/2026-03-02/
LOCATION:Aladdin Assisted Living\, 15 Ash St\, Keenesburg\, CO\, 80643\, United States
CATEGORIES:Bookmobile
ATTACH;FMTTYPE=image/jpeg:https://thehudsonpubliclibrary.org/wp-content/uploads/2025/10/bookmobile-carousel-featured.jpg
END:VEVENT
BEGIN:VEVENT
DTSTART;TZID=America/Denver:20260305T150000
DTEND;TZID=America/Denver:20260305T160000
DTSTAMP:20260419T123244
CREATED:20260224T222149Z
LAST-MODIFIED:20260317T214441Z
UID:10006897-1772722800-1772726400@thehudsonpubliclibrary.org
SUMMARY:Bookmobile at Hoff Elementary
DESCRIPTION:Open to public Bookmobile stop
URL:https://thehudsonpubliclibrary.org/event/bookmobile-at-hoff-elementary/2026-03-05/
LOCATION:Hoff Elementary\, 7558 WCR 59\, Keenesburg\, CO\, 80643\, United States
CATEGORIES:Bookmobile
ATTACH;FMTTYPE=image/jpeg:https://thehudsonpubliclibrary.org/wp-content/uploads/2025/11/words-on-wheels-bookmobile-series-featured.jpg
END:VEVENT
BEGIN:VEVENT
DTSTART;TZID=America/Denver:20260306T093000
DTEND;TZID=America/Denver:20260306T103000
DTSTAMP:20260419T123244
CREATED:20260224T223902Z
LAST-MODIFIED:20260317T234726Z
UID:10006910-1772789400-1772793000@thehudsonpubliclibrary.org
SUMMARY:Bookmobile at Hoff Preschool
DESCRIPTION:Facility only Bookmobile stop
URL:https://thehudsonpubliclibrary.org/event/bookmobile-at-hoff-preschool/2026-03-06/
LOCATION:Hoff Elementary\, 7558 WCR 59\, Keenesburg\, CO\, 80643\, United States
CATEGORIES:Bookmobile
ATTACH;FMTTYPE=image/jpeg:https://thehudsonpubliclibrary.org/wp-content/uploads/2025/11/words-on-wheels-bookmobile-series-featured.jpg
END:VEVENT
BEGIN:VEVENT
DTSTART;TZID=America/Denver:20260309T150000
DTEND;TZID=America/Denver:20260309T160000
DTSTAMP:20260419T123244
CREATED:20251211T201707Z
LAST-MODIFIED:20260317T215254Z
UID:10006898-1773068400-1773072000@thehudsonpubliclibrary.org
SUMMARY:Bookmobile at Wild Country RV Park
DESCRIPTION:Open to public Bookmobile stop
URL:https://thehudsonpubliclibrary.org/event/bookmobile-at-wild-country-rv-park-2/2026-03-09/
LOCATION:Wild Country RV Park\, 29521 CR 398\, Keenesburg\, 80643\, United States
CATEGORIES:Bookmobile
ATTACH;FMTTYPE=image/jpeg:https://thehudsonpubliclibrary.org/wp-content/uploads/2025/11/words-on-wheels-bookmobile-series-featured.jpg
END:VEVENT
BEGIN:VEVENT
DTSTART;TZID=America/Denver:20260311T110000
DTEND;TZID=America/Denver:20260311T120000
DTSTAMP:20260419T123244
CREATED:20251211T210255Z
LAST-MODIFIED:20260317T235841Z
UID:10006903-1773226800-1773230400@thehudsonpubliclibrary.org
SUMMARY:Bookmobile at Prairie View Apartments
DESCRIPTION:Facility only Bookmobile stop
URL:https://thehudsonpubliclibrary.org/event/bookmobile-at-prairie-view-apartments/2026-03-11/
LOCATION:Prairie View Housing\, 1125 Main Street\, Hudson\, 80642\, United States
CATEGORIES:Bookmobile
ATTACH;FMTTYPE=image/jpeg:https://thehudsonpubliclibrary.org/wp-content/uploads/2025/10/bookmobile-carousel-featured.jpg
END:VEVENT
BEGIN:VEVENT
DTSTART;TZID=America/Denver:20260312T153000
DTEND;TZID=America/Denver:20260312T163000
DTSTAMP:20260419T123244
CREATED:20251210T180742Z
LAST-MODIFIED:20260317T214615Z
UID:10006901-1773329400-1773333000@thehudsonpubliclibrary.org
SUMMARY:Bookmobile at Cardinal Community Academy
DESCRIPTION:Open to public Bookmobile stop
URL:https://thehudsonpubliclibrary.org/event/bookmobile-at-cardinal-community-academy-2/2026-03-12/
LOCATION:Cardinal Community Academy\, 3101 Cuonty Road 65\, Keenesburg\, CO\, 80643\, United States
CATEGORIES:Bookmobile
ATTACH;FMTTYPE=image/jpeg:https://thehudsonpubliclibrary.org/wp-content/uploads/2025/11/words-on-wheels-bookmobile-series-featured.jpg
END:VEVENT
BEGIN:VEVENT
DTSTART;TZID=America/Denver:20260316T110000
DTEND;TZID=America/Denver:20260316T140000
DTSTAMP:20260419T123244
CREATED:20251210T182741Z
LAST-MODIFIED:20260318T000159Z
UID:10006906-1773658800-1773669600@thehudsonpubliclibrary.org
SUMMARY:Bookmobile at Aladdin & Charleston Assisted Living
DESCRIPTION:Facility only Bookmobile stop
URL:https://thehudsonpubliclibrary.org/event/bookmobile-at-aladdin-charleston/2026-03-16/
LOCATION:Aladdin Assisted Living\, 15 Ash St\, Keenesburg\, CO\, 80643\, United States
CATEGORIES:Bookmobile
ATTACH;FMTTYPE=image/jpeg:https://thehudsonpubliclibrary.org/wp-content/uploads/2025/10/bookmobile-carousel-featured.jpg
END:VEVENT
BEGIN:VEVENT
DTSTART;TZID=America/Denver:20260319T151500
DTEND;TZID=America/Denver:20260319T161500
DTSTAMP:20260419T123244
CREATED:20251211T201500Z
LAST-MODIFIED:20260317T214802Z
UID:10006902-1773933300-1773936900@thehudsonpubliclibrary.org
SUMMARY:Bookmobile at Meadow Ridge Elementary School
DESCRIPTION:Open to public Bookmobile stop
URL:https://thehudsonpubliclibrary.org/event/bookmobile-at-meadow-ridge-elementary-school-2/2026-03-19/
LOCATION:Meadow Ridge Elementary School\, 1501 Fletcher Ave\, Lochbuie\, CO\, 80603\, United States
CATEGORIES:Bookmobile
ATTACH;FMTTYPE=image/jpeg:https://thehudsonpubliclibrary.org/wp-content/uploads/2025/11/words-on-wheels-bookmobile-series-featured.jpg
END:VEVENT
BEGIN:VEVENT
DTSTART;TZID=America/Denver:20260320T093000
DTEND;TZID=America/Denver:20260320T103000
DTSTAMP:20260419T123244
CREATED:20260224T223902Z
LAST-MODIFIED:20260317T234726Z
UID:10006911-1773999000-1774002600@thehudsonpubliclibrary.org
SUMMARY:Bookmobile at Hoff Preschool
DESCRIPTION:Facility only Bookmobile stop
URL:https://thehudsonpubliclibrary.org/event/bookmobile-at-hoff-preschool/2026-03-20/
LOCATION:Hoff Elementary\, 7558 WCR 59\, Keenesburg\, CO\, 80643\, United States
CATEGORIES:Bookmobile
ATTACH;FMTTYPE=image/jpeg:https://thehudsonpubliclibrary.org/wp-content/uploads/2025/11/words-on-wheels-bookmobile-series-featured.jpg
END:VEVENT
BEGIN:VEVENT
DTSTART;TZID=America/Denver:20260323T150000
DTEND;TZID=America/Denver:20260323T160000
DTSTAMP:20260419T123244
CREATED:20251211T201707Z
LAST-MODIFIED:20260317T215254Z
UID:10006899-1774278000-1774281600@thehudsonpubliclibrary.org
SUMMARY:Bookmobile at Wild Country RV Park
DESCRIPTION:Open to public Bookmobile stop
URL:https://thehudsonpubliclibrary.org/event/bookmobile-at-wild-country-rv-park-2/2026-03-23/
LOCATION:Wild Country RV Park\, 29521 CR 398\, Keenesburg\, 80643\, United States
CATEGORIES:Bookmobile
ATTACH;FMTTYPE=image/jpeg:https://thehudsonpubliclibrary.org/wp-content/uploads/2025/11/words-on-wheels-bookmobile-series-featured.jpg
END:VEVENT
BEGIN:VEVENT
DTSTART;TZID=America/Denver:20260325T110000
DTEND;TZID=America/Denver:20260325T120000
DTSTAMP:20260419T123244
CREATED:20251211T210255Z
LAST-MODIFIED:20260317T235841Z
UID:10006904-1774436400-1774440000@thehudsonpubliclibrary.org
SUMMARY:Bookmobile at Prairie View Apartments
DESCRIPTION:Facility only Bookmobile stop
URL:https://thehudsonpubliclibrary.org/event/bookmobile-at-prairie-view-apartments/2026-03-25/
LOCATION:Prairie View Housing\, 1125 Main Street\, Hudson\, 80642\, United States
CATEGORIES:Bookmobile
ATTACH;FMTTYPE=image/jpeg:https://thehudsonpubliclibrary.org/wp-content/uploads/2025/10/bookmobile-carousel-featured.jpg
END:VEVENT
BEGIN:VEVENT
DTSTART;TZID=America/Denver:20260325T130000
DTEND;TZID=America/Denver:20260325T140000
DTSTAMP:20260419T123244
CREATED:20251211T210545Z
LAST-MODIFIED:20260317T215021Z
UID:10006900-1774443600-1774447200@thehudsonpubliclibrary.org
SUMMARY:Bookmobile at Roggen Post Office
DESCRIPTION:Open to public Bookmobile stop
URL:https://thehudsonpubliclibrary.org/event/bookmobile-at-roggen-post-office/2026-03-25/
LOCATION:Roggen\, 413 Front St.\, Roggen\, CO\, 80652\, United States
CATEGORIES:Bookmobile
ATTACH;FMTTYPE=image/jpeg:https://thehudsonpubliclibrary.org/wp-content/uploads/2025/10/bookmobile-carousel-featured.jpg
END:VEVENT
BEGIN:VEVENT
DTSTART;TZID=America/Denver:20260330T110000
DTEND;TZID=America/Denver:20260330T140000
DTSTAMP:20260419T123244
CREATED:20251210T182741Z
LAST-MODIFIED:20260318T000159Z
UID:10006907-1774868400-1774879200@thehudsonpubliclibrary.org
SUMMARY:Bookmobile at Aladdin & Charleston Assisted Living
DESCRIPTION:Facility only Bookmobile stop
URL:https://thehudsonpubliclibrary.org/event/bookmobile-at-aladdin-charleston/2026-03-30/
LOCATION:Aladdin Assisted Living\, 15 Ash St\, Keenesburg\, CO\, 80643\, United States
CATEGORIES:Bookmobile
ATTACH;FMTTYPE=image/jpeg:https://thehudsonpubliclibrary.org/wp-content/uploads/2025/10/bookmobile-carousel-featured.jpg
END:VEVENT
END:VCALENDAR