BEGIN:VCALENDAR
VERSION:2.0
PRODID:-//Hudson Public Library - ECPv6.15.20//NONSGML v1.0//EN
CALSCALE:GREGORIAN
METHOD:PUBLISH
X-ORIGINAL-URL:https://thehudsonpubliclibrary.org
X-WR-CALDESC:Events for Hudson Public Library
REFRESH-INTERVAL;VALUE=DURATION:PT1H
X-Robots-Tag:noindex
X-PUBLISHED-TTL:PT1H
BEGIN:VTIMEZONE
TZID:America/Denver
BEGIN:DAYLIGHT
TZOFFSETFROM:-0700
TZOFFSETTO:-0600
TZNAME:MDT
DTSTART:20250309T090000
END:DAYLIGHT
BEGIN:STANDARD
TZOFFSETFROM:-0600
TZOFFSETTO:-0700
TZNAME:MST
DTSTART:20251102T080000
END:STANDARD
BEGIN:DAYLIGHT
TZOFFSETFROM:-0700
TZOFFSETTO:-0600
TZNAME:MDT
DTSTART:20260308T090000
END:DAYLIGHT
BEGIN:STANDARD
TZOFFSETFROM:-0600
TZOFFSETTO:-0700
TZNAME:MST
DTSTART:20261101T080000
END:STANDARD
BEGIN:DAYLIGHT
TZOFFSETFROM:-0700
TZOFFSETTO:-0600
TZNAME:MDT
DTSTART:20270314T090000
END:DAYLIGHT
BEGIN:STANDARD
TZOFFSETFROM:-0600
TZOFFSETTO:-0700
TZNAME:MST
DTSTART:20271107T080000
END:STANDARD
END:VTIMEZONE
BEGIN:VEVENT
DTSTART;TZID=America/Denver:20260105T110000
DTEND;TZID=America/Denver:20260105T140000
DTSTAMP:20260419T161903
CREATED:20251210T182741Z
LAST-MODIFIED:20260318T000159Z
UID:10003518-1767610800-1767621600@thehudsonpubliclibrary.org
SUMMARY:Bookmobile at Aladdin & Charleston Assisted Living
DESCRIPTION:Facility only Bookmobile stop
URL:https://thehudsonpubliclibrary.org/event/bookmobile-at-aladdin-charleston/2026-01-05/
LOCATION:Aladdin Assisted Living\, 15 Ash St\, Keenesburg\, CO\, 80643\, United States
CATEGORIES:Bookmobile
ATTACH;FMTTYPE=image/jpeg:https://thehudsonpubliclibrary.org/wp-content/uploads/2025/10/bookmobile-carousel-featured.jpg
END:VEVENT
BEGIN:VEVENT
DTSTART;TZID=America/Denver:20260105T110000
DTEND;TZID=America/Denver:20260105T140000
DTSTAMP:20260419T161903
CREATED:20251211T195205Z
LAST-MODIFIED:20260126T233726Z
UID:10003519-1767610800-1767621600@thehudsonpubliclibrary.org
SUMMARY:Bookmobile at Charleston Assisted Living
DESCRIPTION:Facility only Bookmobile stop
URL:https://thehudsonpubliclibrary.org/event/bookmobile-at-charleston-assisted-living/2026-01-05/
LOCATION:Charleston Assisted Living\, 195 Gandy Ave\, Keenesburg\, CO\, 80643\, United States
CATEGORIES:Bookmobile
END:VEVENT
BEGIN:VEVENT
DTSTART;TZID=America/Denver:20260112T150000
DTEND;TZID=America/Denver:20260112T160000
DTSTAMP:20260419T161903
CREATED:20251211T201707Z
LAST-MODIFIED:20260317T215254Z
UID:10000073-1768230000-1768233600@thehudsonpubliclibrary.org
SUMMARY:Bookmobile at Wild Country RV Park
DESCRIPTION:Open to public Bookmobile stop
URL:https://thehudsonpubliclibrary.org/event/bookmobile-at-wild-country-rv-park-2/2026-01-12/
LOCATION:Wild Country RV Park\, 29521 CR 398\, Keenesburg\, 80643\, United States
CATEGORIES:Bookmobile
ATTACH;FMTTYPE=image/jpeg:https://thehudsonpubliclibrary.org/wp-content/uploads/2025/11/words-on-wheels-bookmobile-series-featured.jpg
END:VEVENT
BEGIN:VEVENT
DTSTART;TZID=America/Denver:20260114T110000
DTEND;TZID=America/Denver:20260114T120000
DTSTAMP:20260419T161903
CREATED:20251211T210255Z
LAST-MODIFIED:20260317T235841Z
UID:10003520-1768388400-1768392000@thehudsonpubliclibrary.org
SUMMARY:Bookmobile at Prairie View Apartments
DESCRIPTION:Facility only Bookmobile stop
URL:https://thehudsonpubliclibrary.org/event/bookmobile-at-prairie-view-apartments/2026-01-14/
LOCATION:Prairie View Housing\, 1125 Main Street\, Hudson\, 80642\, United States
CATEGORIES:Bookmobile
ATTACH;FMTTYPE=image/jpeg:https://thehudsonpubliclibrary.org/wp-content/uploads/2025/10/bookmobile-carousel-featured.jpg
END:VEVENT
BEGIN:VEVENT
DTSTART;TZID=America/Denver:20260115T150000
DTEND;TZID=America/Denver:20260115T160000
DTSTAMP:20260419T161903
CREATED:20251211T205900Z
LAST-MODIFIED:20251218T162239Z
UID:10000013-1768489200-1768492800@thehudsonpubliclibrary.org
SUMMARY:Bookmobile at Hoff Elementary
DESCRIPTION:Open to public Bookmobile stop
URL:https://thehudsonpubliclibrary.org/event/bookmobile-at-hoff-elementary-2/2026-01-15/
LOCATION:Hoff Elementary\, 7558 WCR 59\, Keenesburg\, CO\, 80643\, United States
CATEGORIES:Bookmobile
ATTACH;FMTTYPE=image/jpeg:https://thehudsonpubliclibrary.org/wp-content/uploads/2025/11/words-on-wheels-bookmobile-series-featured.jpg
END:VEVENT
BEGIN:VEVENT
DTSTART;TZID=America/Denver:20260122T153000
DTEND;TZID=America/Denver:20260122T163000
DTSTAMP:20260419T161903
CREATED:20251210T180742Z
LAST-MODIFIED:20260317T214615Z
UID:10003513-1769095800-1769099400@thehudsonpubliclibrary.org
SUMMARY:Bookmobile at Cardinal Community Academy
DESCRIPTION:Open to public Bookmobile stop
URL:https://thehudsonpubliclibrary.org/event/bookmobile-at-cardinal-community-academy-2/2026-01-22/
LOCATION:Cardinal Community Academy\, 3101 Cuonty Road 65\, Keenesburg\, CO\, 80643\, United States
CATEGORIES:Bookmobile
ATTACH;FMTTYPE=image/jpeg:https://thehudsonpubliclibrary.org/wp-content/uploads/2025/11/words-on-wheels-bookmobile-series-featured.jpg
END:VEVENT
BEGIN:VEVENT
DTSTART;TZID=America/Denver:20260128T133000
DTEND;TZID=America/Denver:20260128T140000
DTSTAMP:20260419T161903
CREATED:20251211T210545Z
LAST-MODIFIED:20260317T215021Z
UID:10003521-1769607000-1769608800@thehudsonpubliclibrary.org
SUMMARY:Bookmobile at Roggen Post Office
DESCRIPTION:Open to public Bookmobile stop
URL:https://thehudsonpubliclibrary.org/event/bookmobile-at-roggen-post-office/2026-01-28/
LOCATION:Roggen\, 413 Front St.\, Roggen\, CO\, 80652\, United States
CATEGORIES:Bookmobile
ATTACH;FMTTYPE=image/jpeg:https://thehudsonpubliclibrary.org/wp-content/uploads/2025/10/bookmobile-carousel-featured.jpg
END:VEVENT
BEGIN:VEVENT
DTSTART;TZID=America/Denver:20260129T151500
DTEND;TZID=America/Denver:20260129T161500
DTSTAMP:20260419T161903
CREATED:20251211T201500Z
LAST-MODIFIED:20260317T214802Z
UID:10000200-1769699700-1769703300@thehudsonpubliclibrary.org
SUMMARY:Bookmobile at Meadow Ridge Elementary School
DESCRIPTION:Open to public Bookmobile stop
URL:https://thehudsonpubliclibrary.org/event/bookmobile-at-meadow-ridge-elementary-school-2/2026-01-29/
LOCATION:Meadow Ridge Elementary School\, 1501 Fletcher Ave\, Lochbuie\, CO\, 80603\, United States
CATEGORIES:Bookmobile
ATTACH;FMTTYPE=image/jpeg:https://thehudsonpubliclibrary.org/wp-content/uploads/2025/11/words-on-wheels-bookmobile-series-featured.jpg
END:VEVENT
END:VCALENDAR