BEGIN:VCALENDAR
VERSION:2.0
PRODID:-//Hudson Public Library - ECPv6.15.20//NONSGML v1.0//EN
CALSCALE:GREGORIAN
METHOD:PUBLISH
X-WR-CALNAME:Hudson Public Library
X-ORIGINAL-URL:https://thehudsonpubliclibrary.org
X-WR-CALDESC:Events for Hudson Public Library
REFRESH-INTERVAL;VALUE=DURATION:PT1H
X-Robots-Tag:noindex
X-PUBLISHED-TTL:PT1H
BEGIN:VTIMEZONE
TZID:America/Denver
BEGIN:DAYLIGHT
TZOFFSETFROM:-0700
TZOFFSETTO:-0600
TZNAME:MDT
DTSTART:20240310T090000
END:DAYLIGHT
BEGIN:STANDARD
TZOFFSETFROM:-0600
TZOFFSETTO:-0700
TZNAME:MST
DTSTART:20241103T080000
END:STANDARD
BEGIN:DAYLIGHT
TZOFFSETFROM:-0700
TZOFFSETTO:-0600
TZNAME:MDT
DTSTART:20250309T090000
END:DAYLIGHT
BEGIN:STANDARD
TZOFFSETFROM:-0600
TZOFFSETTO:-0700
TZNAME:MST
DTSTART:20251102T080000
END:STANDARD
BEGIN:DAYLIGHT
TZOFFSETFROM:-0700
TZOFFSETTO:-0600
TZNAME:MDT
DTSTART:20260308T090000
END:DAYLIGHT
BEGIN:STANDARD
TZOFFSETFROM:-0600
TZOFFSETTO:-0700
TZNAME:MST
DTSTART:20261101T080000
END:STANDARD
END:VTIMEZONE
BEGIN:VEVENT
DTSTART;TZID=America/Denver:20251211T153000
DTEND;TZID=America/Denver:20251211T163000
DTSTAMP:20260419T181358
CREATED:20251210T180742Z
LAST-MODIFIED:20260317T214615Z
UID:10000258-1765467000-1765470600@thehudsonpubliclibrary.org
SUMMARY:Bookmobile at Cardinal Community Academy
DESCRIPTION:Open to public Bookmobile stop
URL:https://thehudsonpubliclibrary.org/event/bookmobile-at-cardinal-community-academy-2/2025-12-11/
LOCATION:Cardinal Community Academy\, 3101 Cuonty Road 65\, Keenesburg\, CO\, 80643\, United States
CATEGORIES:Bookmobile
ATTACH;FMTTYPE=image/jpeg:https://thehudsonpubliclibrary.org/wp-content/uploads/2025/11/words-on-wheels-bookmobile-series-featured.jpg
END:VEVENT
BEGIN:VEVENT
DTSTART;TZID=America/Denver:20251215T110000
DTEND;TZID=America/Denver:20251215T140000
DTSTAMP:20260419T181358
CREATED:20251210T182741Z
LAST-MODIFIED:20260318T000159Z
UID:10002892-1765796400-1765807200@thehudsonpubliclibrary.org
SUMMARY:Bookmobile at Aladdin & Charleston Assisted Living
DESCRIPTION:Facility only Bookmobile stop
URL:https://thehudsonpubliclibrary.org/event/bookmobile-at-aladdin-charleston/2025-12-15/
LOCATION:Aladdin Assisted Living\, 15 Ash St\, Keenesburg\, CO\, 80643\, United States
CATEGORIES:Bookmobile
ATTACH;FMTTYPE=image/jpeg:https://thehudsonpubliclibrary.org/wp-content/uploads/2025/10/bookmobile-carousel-featured.jpg
END:VEVENT
BEGIN:VEVENT
DTSTART;TZID=America/Denver:20251218T151500
DTEND;TZID=America/Denver:20251218T161500
DTSTAMP:20260419T181358
CREATED:20251211T201500Z
LAST-MODIFIED:20260317T214802Z
UID:10000198-1766070900-1766074500@thehudsonpubliclibrary.org
SUMMARY:Bookmobile at Meadow Ridge Elementary School
DESCRIPTION:Open to public Bookmobile stop
URL:https://thehudsonpubliclibrary.org/event/bookmobile-at-meadow-ridge-elementary-school-2/2025-12-18/
LOCATION:Meadow Ridge Elementary School\, 1501 Fletcher Ave\, Lochbuie\, CO\, 80603\, United States
CATEGORIES:Bookmobile
ATTACH;FMTTYPE=image/jpeg:https://thehudsonpubliclibrary.org/wp-content/uploads/2025/11/words-on-wheels-bookmobile-series-featured.jpg
END:VEVENT
BEGIN:VEVENT
DTSTART;TZID=America/Denver:20251222T150000
DTEND;TZID=America/Denver:20251222T160000
DTSTAMP:20260419T181358
CREATED:20251211T201707Z
LAST-MODIFIED:20260317T215254Z
UID:10000072-1766415600-1766419200@thehudsonpubliclibrary.org
SUMMARY:Bookmobile at Wild Country RV Park
DESCRIPTION:Open to public Bookmobile stop
URL:https://thehudsonpubliclibrary.org/event/bookmobile-at-wild-country-rv-park-2/2025-12-22/
LOCATION:Wild Country RV Park\, 29521 CR 398\, Keenesburg\, 80643\, United States
CATEGORIES:Bookmobile
ATTACH;FMTTYPE=image/jpeg:https://thehudsonpubliclibrary.org/wp-content/uploads/2025/11/words-on-wheels-bookmobile-series-featured.jpg
END:VEVENT
END:VCALENDAR